BEGIN:VCALENDAR
VERSION:2.0
PRODID:-//ChamberMaster//Event Calendar 2.0//EN
METHOD:PUBLISH
X-PUBLISHED-TTL:P3D
REFRESH-INTERVAL:P3D
CALSCALE:GREGORIAN
BEGIN:VEVENT
DTSTART:20160724T003000Z
DTEND:20160724T030000Z
X-MICROSOFT-CDO-ALLDAYEVENT:FALSE
SUMMARY:Beach Music Showcase
DESCRIPTION:$20 Doors open at 7:00pm. Tickets includes a complimentary beverage reception. SCAC Members enjoy reserved seating.  All other seating is General Admission. \n\nBreak out your dancing shoes!  Join us for a casual night of Carolina Beach Music.
X-ALT-DESC;FMTTYPE=text/html:<p><span style="font-size:medium"><span style="font-family:arial">$20&nbsp\;</span></span><span style="font-family:arial\; font-size:medium">Doors open at 7:00pm.&nbsp\;</span><span style="font-family:arial\; font-size:medium">Tickets includes a complimentary beverage reception. SCAC Members enjoy reserved seating. &nbsp\;All other seating is General Admission.&nbsp\;</span></p>\n\n<p><span style="font-size:medium"><span style="font-family:arial">Break out your dancing shoes! &nbsp\;Join us for a casual night of Carolina Beach Music.</span></span></p>\n
LOCATION:104 Mildred Street\, Columbiana\, AL 35051
UID:e.145.9586
SEQUENCE:3
DTSTAMP:20260422T012454Z
URL:https://business.shelbychamber.org/events/details/beach-music-showcase-07-23-2016-9586
END:VEVENT

END:VCALENDAR
