BEGIN:VCALENDAR
VERSION:2.0
PRODID:-//ChamberMaster//Event Calendar 2.0//EN
METHOD:PUBLISH
X-PUBLISHED-TTL:P3D
REFRESH-INTERVAL:P3D
CALSCALE:GREGORIAN
BEGIN:VEVENT
DTSTART:20150322T010000Z
DTEND:20150322T030000Z
X-MICROSOFT-CDO-ALLDAYEVENT:FALSE
SUMMARY:Beach Music Showcase featuring Panama Jack and the Hangouts
DESCRIPTION:This is Carolina Beach Music from the 50's and 60's. Music you can "bop and shag" to. You will hear music from the Temptations\, The Drifters\, The Tams\, The Embers\, and more. All performed accurately by Panama Jack and the Hangouts!
X-ALT-DESC;FMTTYPE=text/html:<span style="color:rgb(0\, 0\, 0)\; font-family:arial\; font-size:small\; line-height:18px">This is Carolina Beach Music from the 50&#39\;s and 60&#39\;s. Music you can &quot\;bop and shag&quot\; to. You will hear music from the Temptations\, The Drifters\, The Tams\, The Embers\, and more. All performed accurately by Panama Jack and the Hangouts!&nbsp\;</span>
LOCATION:104 Mildred Street\, Columbiana\, AL 35051
UID:e.145.7331
SEQUENCE:3
DTSTAMP:20260423T022225Z
URL:https://business.shelbychamber.org/events/details/beach-music-showcase-featuring-panama-jack-and-the-hangouts-03-21-2015-7331
END:VEVENT

END:VCALENDAR
