BEGIN:VCALENDAR
VERSION:2.0
PRODID:-//ChamberMaster//Event Calendar 2.0//EN
METHOD:PUBLISH
X-PUBLISHED-TTL:P3D
REFRESH-INTERVAL:P3D
CALSCALE:GREGORIAN
BEGIN:VEVENT
DTSTART:20150816T003000Z
DTEND:20150816T023000Z
X-MICROSOFT-CDO-ALLDAYEVENT:FALSE
SUMMARY:Beach Music with Panama Jack and the Hangouts
DESCRIPTION:A great night of music that you can dance and bop to!  Panama Jack and the Hangouts play your favorite hits from "My Girl" to "Under the Boardwalk".  Bring your dancing shoes and a friend for a fun night out.
X-ALT-DESC;FMTTYPE=text/html:A great night of music that you can dance and bop to!&nbsp\; Panama Jack and the Hangouts play your favorite hits from &quot\;My Girl&quot\; to &quot\;Under the Boardwalk&quot\;.&nbsp\; Bring your dancing shoes and a friend for a fun night out.&nbsp\;<br />\n&nbsp\;
LOCATION:Shelby County Arts Council 104 Mildred Street\, Columbiana\, AL 35051
UID:e.145.7768
SEQUENCE:3
DTSTAMP:20260422T183639Z
URL:https://business.shelbychamber.org/events/details/beach-music-with-panama-jack-and-the-hangouts-08-15-2015-7768
END:VEVENT

END:VCALENDAR
