BEGIN:VCALENDAR
VERSION:2.0
PRODID:-//ChamberMaster//Event Calendar 2.0//EN
METHOD:PUBLISH
X-PUBLISHED-TTL:P3D
REFRESH-INTERVAL:P3D
CALSCALE:GREGORIAN
BEGIN:VEVENT
DTSTART:20140823T150000Z
DTEND:20140824T230000Z
X-MICROSOFT-CDO-ALLDAYEVENT:FALSE
SUMMARY:Beadapalooza 2014
DESCRIPTION:Our Biggest event of the year\, Beadapalooza 2014 brings together bead and gemstone vendors from all over the United States. Gemstones strands\, Czech Glass\, Metal\, Shell and wood from various countries around the globe\, all under the Big top tent. This 2 day event will feature\, an array of bead artisans selling their original designs to enhance the Jewelry designer in you. This is a once a year opportunity to meet and share with other jewelry designers from the Birmingham area. Something for everyone\, The Bead Biz is the mecca for the Designer to the hobbyist. Swing by and use our Professional Valet service on Saturday and survey table after table of beading supplies. Enjoy acoustic entertainment\, both afternoons for your shopping pleasure. $1.00 a minute chair massages by local professional masseuse on Sunday. Tribal Belly dancers will perform to give a festive shopping experience at 9:30 am Saturday. Goodie Swag bags will be given to the first 50 shopper who spend $20.00 on Saturday. So come early for the best selection.
X-ALT-DESC;FMTTYPE=text/html:<big>Our Biggest event of the year\, Beadapalooza 2014 brings together bead and gemstone vendors from all over the United States. Gemstones strands\, Czech Glass\, Metal\, Shell and wood from various countries around the globe\, all under the Big top tent. This 2 day event will feature\, an array of bead artisans selling their original designs to enhance the Jewelry designer in you. This is a once a year opportunity to meet and share with other jewelry designers from the Birmingham area. Something for everyone\, The Bead Biz is the mecca for the Designer to the hobbyist. Swing by and use our Professional Valet service on Saturday and survey table after table of beading supplies. Enjoy acoustic entertainment\, both afternoons for your shopping pleasure. $1.00 a minute chair massages by local professional masseuse on Sunday. Tribal Belly dancers will perform to give a festive shopping experience at 9:30 am Saturday. Goodie Swag bags will be given to the first 50 shopper who spend $20.00 on Saturday. So come early for the best selection.</big>
LOCATION:The Bead Biz 3745 Helena Road\, Suite 100 Helena\, AL 35080
UID:e.145.6170
SEQUENCE:3
DTSTAMP:20260423T120227Z
URL:https://business.shelbychamber.org/events/details/beadapalooza-2014-08-23-2014-6170
END:VEVENT

END:VCALENDAR
