BEGIN:VCALENDAR
VERSION:2.0
PRODID:-//ChamberMaster//Event Calendar 2.0//EN
METHOD:PUBLISH
X-PUBLISHED-TTL:P3D
REFRESH-INTERVAL:P3D
CALSCALE:GREGORIAN
BEGIN:VEVENT
DTSTART:20150918T233000Z
DTEND:20150919T020000Z
X-MICROSOFT-CDO-ALLDAYEVENT:FALSE
SUMMARY:Beginning Bridge lessons
DESCRIPTION:Beginning bridge lessons\; refresher for players that have been away from the game.
X-ALT-DESC;FMTTYPE=text/html:Beginning bridge lessons\; refresher for players that have been away from the game.
LOCATION:Birmingham Duplicate Bridge Club 144 Business Center Drive Birmingham\, AL 35216
UID:e.145.7730
SEQUENCE:3
DTSTAMP:20260422T170557Z
URL:https://business.shelbychamber.org/events/details/beginning-bridge-lessons-09-18-2015-7730
END:VEVENT

END:VCALENDAR
