BEGIN:VCALENDAR
VERSION:2.0
PRODID:-//ChamberMaster//Event Calendar 2.0//EN
METHOD:PUBLISH
X-PUBLISHED-TTL:P3D
REFRESH-INTERVAL:P3D
CALSCALE:GREGORIAN
BEGIN:VEVENT
DTSTART;VALUE=DATE:20160412
DTEND;VALUE=DATE:20160413
TRANSP:TRANSPARENT
X-MICROSOFT-CDO-ALLDAYEVENT:TRUE
SUMMARY:Beverly Cleary Day
DESCRIPTION:Join us for an all-day celebration of one of our favorite authors\, Beverly Cleary\, on her 100th birthday! Drop by for crafts\, activities\, and even a chance to win a prize   a bundle of some of our favorite Beverly Cleary books! All ages welcome\, no registration required.
X-ALT-DESC;FMTTYPE=text/html:<span style="font-family:calibri light\,sans-serif">Join us for an all-day celebration of one of our favorite authors\, Beverly Cleary\, on her 100<sup>th</sup> birthday! Drop by for crafts\, activities\, and even a chance to win a prize &ndash\; a bundle of some of our favorite Beverly Cleary books! All ages welcome\, no registration required.</span>
LOCATION:North Shelby Library
UID:e.145.9407
SEQUENCE:3
DTSTAMP:20260422T062130Z
URL:https://business.shelbychamber.org/events/details/beverly-cleary-day-04-12-2016-9407
END:VEVENT

END:VCALENDAR
