BEGIN:VCALENDAR
VERSION:2.0
PRODID:-//ChamberMaster//Event Calendar 2.0//EN
METHOD:PUBLISH
X-PUBLISHED-TTL:P3D
REFRESH-INTERVAL:P3D
CALSCALE:GREGORIAN
BEGIN:VEVENT
DTSTART:20140127T163000Z
DTEND:20140127T170000Z
X-MICROSOFT-CDO-ALLDAYEVENT:FALSE
SUMMARY:Bi-Lingual Toddler Tales 10:30
DESCRIPTION:Join us for a special toddler tales that will be presented in English and Spanish. Stories\, songs\, fingerplays and crafts make up a lively 30 minute program designed especially for short attention spans. Registration will begin one week prior to each storytime. Ages 19-36 months. Registration Required.
X-ALT-DESC;FMTTYPE=text/html:Join us for a special toddler tales that will be presented in English and Spanish. Stories\, songs\, fingerplays and crafts make up a lively 30 minute program designed especially for short attention spans. Registration will begin one week prior to each storytime. Ages 19-36 months. Registration Required. 
LOCATION:North Shelby Library
UID:e.145.4986
SEQUENCE:3
DTSTAMP:20260423T225820Z
URL:https://business.shelbychamber.org/events/details/bi-lingual-toddler-tales-10-30-01-27-2014-4986
END:VEVENT

END:VCALENDAR
