BEGIN:VCALENDAR
VERSION:2.0
PRODID:-//ChamberMaster//Event Calendar 2.0//EN
METHOD:PUBLISH
X-PUBLISHED-TTL:P3D
REFRESH-INTERVAL:P3D
CALSCALE:GREGORIAN
BEGIN:VEVENT
DTSTART:20130328T143000Z
DTEND:20130328T160000Z
X-MICROSOFT-CDO-ALLDAYEVENT:FALSE
SUMMARY:Big Eye Deals Ribbon Cutting
DESCRIPTION:Big Eye Deals is celebrating their new store!
X-ALT-DESC;FMTTYPE=text/html:Big Eye Deals is celebrating their new store! &nbsp\;&nbsp\;&nbsp\; 
LOCATION:2850 Pelham Parkway Suite F Pelham\, AL 35124 * Located in the Pelham Mall beside Sarah's Flowers and Vintage Interiors
UID:e.145.4553
SEQUENCE:3
DTSTAMP:20260424T153839Z
URL:https://business.shelbychamber.org/events/details/big-eye-deals-ribbon-cutting-03-28-2013-4553
END:VEVENT

END:VCALENDAR
