BEGIN:VCALENDAR
VERSION:2.0
PRODID:-//ChamberMaster//Event Calendar 2.0//EN
METHOD:PUBLISH
X-PUBLISHED-TTL:P3D
REFRESH-INTERVAL:P3D
CALSCALE:GREGORIAN
BEGIN:VEVENT
DTSTART:20120204T150000Z
DTEND:20120205T010000Z
X-MICROSOFT-CDO-ALLDAYEVENT:FALSE
SUMMARY:"Big Game" Sale at all Mission Possible Bargain Centers
DESCRIPTION:Join us as we celebrate Super Savings in honor of the "Big Game" at all Mission Possible Bargain Centers.\n\n\n\nFrom 9 a.m. to 7 p.m. join us and receive 20% off your entire purchase at our Homewood Mission Possible Bargain Center.  Other participating store include Adamsville\, Homewood\, Hanceville and Pinson.\n\n\n\nAll Mission Possible Bargain Centers are fundraising thrift stores of the Jimmie Hale Mission and all proceeds go to benefit the homeless and hungry we serve.
X-ALT-DESC;FMTTYPE=text/html:Join us as we celebrate <em><strong>Super Savings in honor of the &quot\;Big Game&quot\;</strong></em> at all Mission Possible Bargain Centers.<br />\n<br />\nFrom 9 a.m. to 7 p.m. join us and receive 20% off your entire purchase at our Homewood Mission Possible Bargain Center.&nbsp\; Other participating store include Adamsville\, Homewood\, Hanceville and Pinson.<br />\n<br />\nAll Mission Possible Bargain Centers are fundraising thrift stores of the Jimmie Hale Mission and all proceeds go to benefit the homeless and hungry we serve.
LOCATION:Homewood Mission Possible Bargain Center is located at 800 Greensprings Hwy in the former Mazer complex across from Purple Onion and next to Firestone.
UID:e.145.3909
SEQUENCE:3
DTSTAMP:20260425T134704Z
URL:https://business.shelbychamber.org/events/details/big-game-sale-at-all-mission-possible-bargain-centers-02-04-2012-3909
END:VEVENT

END:VCALENDAR
