BEGIN:VCALENDAR
VERSION:2.0
PRODID:-//ChamberMaster//Event Calendar 2.0//EN
METHOD:PUBLISH
X-PUBLISHED-TTL:P3D
REFRESH-INTERVAL:P3D
CALSCALE:GREGORIAN
BEGIN:VEVENT
DTSTART:20160511T170000Z
DTEND:20160519T030000Z
X-MICROSOFT-CDO-ALLDAYEVENT:FALSE
SUMMARY:Big Green Eggs in the 'Ham Discounted Registration Fee
DESCRIPTION:Big Green Eggs in the 'Ham Discounted Registration Fee\n\n\n\nAllSouth Appliance presents the 4th Annual Big Green Eggs in the 'Ham - Alabama's only EggFest. Join us on Saturday\, June 11th at Regions Field for this fun and unique cooking competition. Prizes will be awarded in the following categories: pork\, chicken\, "everything else"\, and people's choice.\n\n\n\nWith your registration you receive a Large Egg to cook on for the day and as well as a tent\, table and chairs. In addition we provide the charcoal\, fire starters\, napkins\, toothpicks\, tasting cups and a customized case of beer.\n\n\n\nCorporate teams receive 20 additional tickets and sponsor. To register or for more info contact Karon Grubbs at kgrubbs@eastersealsbham.org or 314-2387.
X-ALT-DESC;FMTTYPE=text/html:<br />\n<strong>Big Green Eggs in the &#39\;Ham Discounted Registration Fee</strong><br />\n<br />\nAllSouth Appliance presents the 4th Annual Big Green Eggs in the &#39\;Ham - Alabama&#39\;s only EggFest. Join us on Saturday\, June 11th at Regions Field for this fun and unique cooking competition. Prizes will be awarded in the following categories: pork\, chicken\, &quot\;everything else&quot\;\, and people&#39\;s choice.<br />\n<br />\nWith your registration you receive a Large Egg to cook on for the day and as well as a tent\, table and chairs. In addition we provide the charcoal\, fire starters\, napkins\, toothpicks\, tasting cups and a customized case of beer.<br />\n<br />\nCorporate teams receive 20 additional tickets and sponsor. To register or for more info contact Karon Grubbs at kgrubbs@eastersealsbham.org or 314-2387.
LOCATION:Regions Field 1401 1st Ave S\, Birmingham AL 35233
UID:e.145.9520
SEQUENCE:3
DTSTAMP:20260422T045010Z
URL:https://business.shelbychamber.org/events/details/big-green-eggs-in-the-ham-discounted-registration-fee-05-11-2016-9520
END:VEVENT

END:VCALENDAR
