BEGIN:VCALENDAR
VERSION:2.0
PRODID:-//ChamberMaster//Event Calendar 2.0//EN
METHOD:PUBLISH
X-PUBLISHED-TTL:P3D
REFRESH-INTERVAL:P3D
CALSCALE:GREGORIAN
BEGIN:VEVENT
DTSTART;VALUE=DATE:20120925
DTEND;VALUE=DATE:20120926
TRANSP:TRANSPARENT
X-MICROSOFT-CDO-ALLDAYEVENT:TRUE
SUMMARY:Bingo for ACA: Alzheimer's of Central Alabama
DESCRIPTION:Bingo for ACA:\n\n	Alzheimer's of Central Alabama\n\n	 \n\n	Come join in raising money for our team in the \n\n	ACA Walk to Remember!\n\n	Our goal is $1500 which will go to help ACA patients and their families. \n\n	 \n\n	Bingo: September 25 at 5:30-7:30pm\n\n	Where: Rehab Select At Shelby Ridge\n\n	881 3rd Street NE\n\n	Alabaster\, Al 35007\n\n	RSVP: (205)620-8549\n\n	 \n\n	$1 per bingo card to play\n\n	Sodas and snacks for donations\n\n	*Door Prizes*\n\n	Sponsors:
X-ALT-DESC;FMTTYPE=text/html:<div>\n	Bingo for ACA:</div>\n<div>\n	Alzheimer&rsquo\;s of Central Alabama</div>\n<div>\n	&nbsp\;</div>\n<div>\n	Come join in raising money for our team in the&nbsp\;</div>\n<div>\n	ACA Walk to Remember!</div>\n<div>\n	Our goal is $1500 which will go to help ACA patients and their families.&nbsp\;</div>\n<div>\n	&nbsp\;</div>\n<div>\n	Bingo: September 25 at 5:30-7:30pm</div>\n<div>\n	Where: Rehab Select At Shelby Ridge</div>\n<div>\n	881 3rd Street NE</div>\n<div>\n	Alabaster\, Al 35007</div>\n<div>\n	RSVP: (205)620-8549</div>\n<div>\n	&nbsp\;</div>\n<div>\n	$1 per bingo card to play</div>\n<div>\n	Sodas and snacks for donations</div>\n<div>\n	*Door Prizes*</div>\n<div>\n	Sponsors:</div>\n<div>\n	&#65532\;</div>\n<div>\n	&#65532\;</div>\n
LOCATION:Rehab Select At Shelby Ridge 881 3rd Street NE Alabaster\, Al 35007 RSVP: (205)620-8549
UID:e.145.4392
SEQUENCE:3
DTSTAMP:20260425T024931Z
URL:https://business.shelbychamber.org/events/details/bingo-for-aca-alzheimer-s-of-central-alabama-09-25-2012-4392
END:VEVENT

END:VCALENDAR
