BEGIN:VCALENDAR
VERSION:2.0
PRODID:-//ChamberMaster//Event Calendar 2.0//EN
METHOD:PUBLISH
X-PUBLISHED-TTL:P3D
REFRESH-INTERVAL:P3D
CALSCALE:GREGORIAN
BEGIN:VEVENT
DTSTART:20130831T150000Z
DTEND:20130831T160000Z
X-MICROSOFT-CDO-ALLDAYEVENT:FALSE
SUMMARY:Birds of Alabama
DESCRIPTION:Come learn about the Birds of AL. We have between 400 and 450 species that live in or visit AL each year. Meet at the Treetop Nature Trail.
X-ALT-DESC;FMTTYPE=text/html:Come learn about the Birds of AL. We have between 400 and 450 species that live in or visit AL each year. Meet at the Treetop Nature Trail. 
LOCATION:Oak Mountain State Park - Treetop Nature Trail
UID:e.145.4530
SEQUENCE:3
DTSTAMP:20260424T065504Z
URL:https://business.shelbychamber.org/events/details/birds-of-alabama-08-31-2013-4530
END:VEVENT

END:VCALENDAR
