BEGIN:VCALENDAR
VERSION:2.0
PRODID:-//ChamberMaster//Event Calendar 2.0//EN
METHOD:PUBLISH
X-PUBLISHED-TTL:P3D
REFRESH-INTERVAL:P3D
CALSCALE:GREGORIAN
BEGIN:VEVENT
DTSTART:20110915T223000Z
DTEND:20110916T003000Z
X-MICROSOFT-CDO-ALLDAYEVENT:FALSE
SUMMARY:Birmingham Business Journal -- BIZMIX
DESCRIPTION:BBJ BIZMIX!\n\n\n\nMeet the publisher. Meet the editor. Meet new business prospects and other people you need to know. Be sure to bring plenty of business cards!
X-ALT-DESC;FMTTYPE=text/html:BBJ BIZMIX!<br />\n<br />\nMeet the publisher. Meet the editor. Meet new business prospects and other people you need to know. Be sure to bring plenty of business cards!<br />\n<br />\n<br />\n<br />\n<br />\n
LOCATION:Cantina at Pepper Place Birmingham\, AL 35233
UID:e.145.3504
SEQUENCE:3
DTSTAMP:20260425T201410Z
URL:https://business.shelbychamber.org/events/details/birmingham-business-journal-bizmix-09-15-2011-3504
END:VEVENT

END:VCALENDAR
