BEGIN:VCALENDAR
VERSION:2.0
PRODID:-//ChamberMaster//Event Calendar 2.0//EN
METHOD:PUBLISH
X-PUBLISHED-TTL:P3D
REFRESH-INTERVAL:P3D
CALSCALE:GREGORIAN
BEGIN:VEVENT
DTSTART:20110823T160000Z
DTEND:20110823T180000Z
X-MICROSOFT-CDO-ALLDAYEVENT:FALSE
SUMMARY:Birmingham Business Journal CFO Awards
DESCRIPTION:Join the Birmingham Business Journal for our fourth annual CFO Awards at Rosewood Hall in SOHO.
X-ALT-DESC;FMTTYPE=text/html:Join the Birmingham Business Journal for our fourth annual CFO Awards at Rosewood Hall in SOHO.<br />\n<div style="overflow: hidden\; color: rgb(0\, 0\, 0)\; background-color: transparent\; text-align: left\; text-decoration: none\; border: medium none\;">\n	<br />\n	&nbsp\;</div>\n
LOCATION:Rosewood Hall\, SOHO 2850 19th Street S. Homewood\, AL 35209
UID:e.145.3459
SEQUENCE:3
DTSTAMP:20260425T232219Z
URL:https://business.shelbychamber.org/events/details/birmingham-business-journal-cfo-awards-08-23-2011-3459
END:VEVENT

END:VCALENDAR
