BEGIN:VCALENDAR
VERSION:2.0
PRODID:-//ChamberMaster//Event Calendar 2.0//EN
METHOD:PUBLISH
X-PUBLISHED-TTL:P3D
REFRESH-INTERVAL:P3D
CALSCALE:GREGORIAN
BEGIN:VEVENT
DTSTART:20120914T120000Z
DTEND:20120914T163000Z
X-MICROSOFT-CDO-ALLDAYEVENT:FALSE
SUMMARY:Birmingham Business Summit
DESCRIPTION:BBJ Business Summit 2012\n\n	Join us for Birmingham Business Journal's Business Summit 2012-where hundreds of local executives and decision makers will come together to gain new insights and solutions for their business. With unique networking opportunities\, exhibition booths\, strategy sessions\, panel discussion\, and keynote speaker\, this event will be the perfect place to get the tools you need to grow your business.\n\n	 \n\n\nSchedule of the Day:\n\n\n\n7:00-7:45 AM: Registration\, Breakfast\, & Networking\n\n\n\n7:45-8:15 AM: Keynote Speaker:\n\nMike Slive\, Southeastern Conference Commissioner\n\nBuilding a Winning Brand: The commissioner of one of the nation's most successful athletic conferences\, will share his thoughts on what it takes to build a winning brand through teamwork and leadership.\n\n\n\n8:15-9:00 AM: Strategy Sessions. 2\, 20 minute strategic sessions with "How To" lessons from Birmingham experts in PR & Media Relations\, and Lending & Financing for your business.\n\n\n\n9:00-9:30 AM: Networking & Exhibition Time\n\n\n\n9:30-10:15 AM: Strategy Sessions. 2\, 20 minute strategic sessions with "How To" lessons from Birmingham experts in Sales Strategies for a small business and Health Care Reform.\n\n\n\n10:15-10:45 AM: Networking & Exhibition Time\n\n\n\n10:45-11:30 AM: Panel Discussion:\n\nStrategies for Longterm Success: This panel of experts will focus on the necessary information that business owners want to know such as solutions to wealth management\, estate planning\, exit strategies\, human resources\, technology\, and upcoming tax and health care legislation.\n\n\n\n11:30 AM -12:00 PM: Final Networking & Exhibition Time \n\n\n\nTicke Prices: $39 each   Exhibit Package: $585\n\n\n\nContact Anne at 443-5613 for tickets or Booth Space!
X-ALT-DESC;FMTTYPE=text/html:<p style="text-align: center\;">\n	<span style="font-size:20px\;">BBJ Business Summit 2012</span></p>\n<p style="text-align: center\;">\n	<span style="font-size:14px\;"><span style="font-family: arial\;">Join us for Birmingham Business Journal&rsquo\;s Business Summit 2012-where hundreds of local executives and decision makers will come together to gain new insights and solutions for their business. With unique networking opportunities\, exhibition booths\, strategy sessions\, panel discussion\, and keynote speaker\, this event will be the perfect place to get the tools you need to grow your business.</span></span><br />\n	&nbsp\;</p>\n<br />\n<span style="font-size:16px\;"><strong>Schedule of the Day:</strong></span><br />\n<br />\n<span style="font-size:14px\;"><strong>7:00-7:45 AM:</strong> Registration\, Breakfast\, &amp\; Networking<br />\n<br />\n<strong>7:45-8:15 AM: </strong>Keynote Speaker:<br />\nMike Slive\, Southeastern Conference Commissioner<br />\nBuilding a Winning Brand: The commissioner of one of the nation&#39\;s most successful athletic conferences\, will share his thoughts on what it takes to build a winning brand through teamwork and leadership.<br />\n<br />\n<strong>8:15-9:00 AM:</strong> Strategy Sessions. 2\, 20 minute strategic sessions with &quot\;How To&quot\; lessons from Birmingham experts in PR &amp\; Media Relations\, and Lending &amp\; Financing for your business.<br />\n<br />\n<strong>9:00-9:30 AM:</strong> Networking &amp\; Exhibition Time<br />\n<br />\n<strong>9:30-10:15 AM:</strong> Strategy Sessions. 2\, 20 minute strategic sessions with &quot\;How To&quot\; lessons from Birmingham experts in Sales Strategies for a small business and Health Care Reform.<br />\n<br />\n<strong>10:15-10:45 AM:</strong> Networking &amp\; Exhibition Time<br />\n<br />\n<strong>10:45-11:30 AM: </strong>Panel Discussion:<br />\nStrategies for Longterm Success: This panel of experts will focus on the necessary information that business owners want to know such as solutions to wealth management\, estate planning\, exit strategies\, human resources\, technology\, and upcoming tax and health care legislation.</span><br />\n<br />\n<span style="font-size:14px\;"><strong>11:30 AM -12:00 PM:</strong> Final Networking &amp\; Exhibition Time </span><br />\n<br />\n<span style="font-size:14px\;">Ticke Prices: $39 each&nbsp\;&nbsp\; Exhibit Package: $585<br />\n<br />\nContact Anne at 443-5613 for tickets or Booth Space!</span>
LOCATION:The Harbert Center
UID:e.145.4344
SEQUENCE:3
DTSTAMP:20260425T010857Z
URL:https://business.shelbychamber.org/events/details/birmingham-business-summit-09-14-2012-4344
END:VEVENT

END:VCALENDAR
