BEGIN:VCALENDAR
VERSION:2.0
PRODID:-//ChamberMaster//Event Calendar 2.0//EN
METHOD:PUBLISH
X-PUBLISHED-TTL:P3D
REFRESH-INTERVAL:P3D
CALSCALE:GREGORIAN
BEGIN:VEVENT
DTSTART:20150520T143000Z
DTEND:20150520T213000Z
X-MICROSOFT-CDO-ALLDAYEVENT:FALSE
SUMMARY:Birmingham Franchise Expo
DESCRIPTION:FranNet of Alabama will host the Birmingham Franchise Expo 2015 for aspiring entrepreneurs on Wednesday\, May 20. Two sessions are available to accommodate schedules. There will be a morning session from 9:30 a.m. to 12:30 p.m. and an afternoon session from 1:30 to 4:30 p.m. The same information will be offered at both sessions. Attendees will hear from over 20 successful and proven franchise companies that desire to expand in the Birmingham market. Franchise industry experts will present information on topics covering the steps to owning a franchise and how to fund a franchise. There will be an opportunity to interact with each franchise company before and after each session.
X-ALT-DESC;FMTTYPE=text/html:FranNet of Alabama will host the Birmingham Franchise Expo 2015 for aspiring entrepreneurs on Wednesday\, May 20. Two sessions are available to accommodate schedules. There will be a morning session from 9:30 a.m. to 12:30 p.m. and an afternoon session from 1:30 to 4:30 p.m. The same information will be offered at both sessions. Attendees will hear from over 20 successful and proven franchise companies that desire to expand in the Birmingham market. Franchise industry experts will present information on topics covering the steps to owning a franchise and how to fund a franchise. There will be an opportunity to interact with each franchise company before and after each session.
LOCATION:Cahaba Grand Conference Center 3660 Grandview Parkway Birmingham\, AL 35243 www.cahabagrand.com
UID:e.145.7651
SEQUENCE:3
DTSTAMP:20260423T003126Z
URL:https://business.shelbychamber.org/events/details/birmingham-franchise-expo-05-20-2015-7651
END:VEVENT

END:VCALENDAR
