BEGIN:VCALENDAR
VERSION:2.0
PRODID:-//ChamberMaster//Event Calendar 2.0//EN
METHOD:PUBLISH
X-PUBLISHED-TTL:P3D
REFRESH-INTERVAL:P3D
CALSCALE:GREGORIAN
BEGIN:VEVENT
DTSTART:20110728T170000Z
DTEND:20110728T210000Z
X-MICROSOFT-CDO-ALLDAYEVENT:FALSE
SUMMARY:Birmingham Health Care's - Back To School Health Fair
DESCRIPTION:Birmingham Health Care's - Back To School Health Fair\n\n\n\nClick here for a printable PDF flier with all the details.\n\n\n\nSt Francis Xavier Catholic School\n\n2 Xavier Circle Birmingham\, Alabama 35213\n\n\n\nDate: July 28\, 2011\n\nTime: 12-4 pm\n\n\n\nGames & Entertainment free School Supplies Free Immunizations!\n\n\n\nFree Food!\n\n\n\nFree Health screeening!\n\n\n\nContact Person: Jasmine Reyes 205-453-0938 jreyes@birminghamhealthcare.org\n\n\n\nBirmingham Health Care: The focus of this health fair is to see to it that every child in the Birmingham Metropolitan area has the health care and school supplies they need to start a successful year in the classroom.\n\n\n\nWe will be offering free immunizations\, free health exams\, free school supplies\, as well as activities for the children. We anticipate over 400 children will be in attendance to our Back To School Health Fair.\n\n\n\nBirmingham Health Care\, Inc (BHC) is a 501(c)(3) tax exempt\, not-for profit organization located in Birmingham\, Alabama who has been serving the Birmingham Metropolitan area since 1983. In our health centers we have serviced an astonishing percentage of uninsured\, underserviced population. For more information or to find a BHC clinic close to you please call 205-637-2285 or 205-212-5699. No Appointment needed.
X-ALT-DESC;FMTTYPE=text/html:<strong>Birmingham Health Care&rsquo\;s - Back To School Health Fair</strong><br />\n<br />\n<strong><a href="http://cloud.chambermaster.com/userfiles/UserFiles/chambers/145/File/Community Events/BacktoSchoolFlyer2011.pdf">Click here for a printable PDF flier with all the details.</a></strong><br />\n<br />\nSt Francis Xavier Catholic School<br />\n2 Xavier Circle Birmingham\, Alabama 35213<br />\n<br />\nDate: July 28\, 2011<br />\nTime: 12-4 pm<br />\n<br />\nGames &amp\; Entertainment free School Supplies Free Immunizations!<br />\n<br />\nFree Food!<br />\n<br />\nFree Health screeening!<br />\n<br />\nContact Person: Jasmine Reyes 205-453-0938 jreyes@birminghamhealthcare.org<br />\n<br />\nBirmingham Health Care: The focus of this health fair is to see to it that every child in the Birmingham Metropolitan area has the health care and school supplies they need to start a successful year in the classroom.<br />\n<br />\nWe will be offering free immunizations\, free health exams\, free school supplies\, as well as activities for the children. We anticipate over 400 children will be in attendance to our Back To School Health Fair.<br />\n<br />\nBirmingham Health Care\, Inc (BHC) is a 501(c)(3) tax exempt\, not-for profit organization located in Birmingham\, Alabama who has been serving the Birmingham Metropolitan area since 1983. In our health centers we have serviced an astonishing percentage of uninsured\, underserviced population. For more information or to find a BHC clinic close to you please call 205-637-2285 or 205-212-5699. No Appointment needed.
LOCATION:St Francis Xavier Catholic School 2 Xavier Circle Birmingham\, Alabama 35213
UID:e.145.3477
SEQUENCE:3
DTSTAMP:20260425T232513Z
URL:https://business.shelbychamber.org/events/details/birmingham-health-care-s-back-to-school-health-fair-07-28-2011-3477
END:VEVENT

END:VCALENDAR
