BEGIN:VCALENDAR
VERSION:2.0
PRODID:-//ChamberMaster//Event Calendar 2.0//EN
METHOD:PUBLISH
X-PUBLISHED-TTL:P3D
REFRESH-INTERVAL:P3D
CALSCALE:GREGORIAN
BEGIN:VEVENT
DTSTART:20130625T120000Z
DTEND:20130625T170000Z
X-MICROSOFT-CDO-ALLDAYEVENT:FALSE
SUMMARY:Birmingham Magazine Digitizing
DESCRIPTION:The Birmingham Magazine has put together a free seminar on digital marketing. Melanie Reed from Microsoft/Bing is the keynote speaker who will proceeded by other industry experts that will help you think of digital marketing in a way you hadn't before. Especially crucial for small businesses that are learning this marketing channel for the first time. Please email Haley Isbell to get registered for this FREE event!
X-ALT-DESC;FMTTYPE=text/html:The Birmingham Magazine has put together a free seminar on digital marketing. Melanie Reed from Microsoft/Bing is the keynote speaker who will proceeded by other industry experts that will help you think of digital marketing in a way you hadn&#39\;t before. Especially crucial for&nbsp\;small businesses that are learning this marketing channel for the first time.&nbsp\;Please email Haley Isbell to get registered for this FREE event! 
LOCATION:Alabama School of Fine Arts
UID:e.145.4649
SEQUENCE:3
DTSTAMP:20260424T115930Z
URL:https://business.shelbychamber.org/events/details/birmingham-magazine-digitizing-06-25-2013-4649
END:VEVENT

END:VCALENDAR
