BEGIN:VCALENDAR
VERSION:2.0
PRODID:-//ChamberMaster//Event Calendar 2.0//EN
METHOD:PUBLISH
X-PUBLISHED-TTL:P3D
REFRESH-INTERVAL:P3D
CALSCALE:GREGORIAN
BEGIN:VEVENT
DTSTART;VALUE=DATE:20130413
DTEND;VALUE=DATE:20130414
TRANSP:TRANSPARENT
X-MICROSOFT-CDO-ALLDAYEVENT:TRUE
SUMMARY:Birmingham Parent's Special Needs Expo 2013
DESCRIPTION:It's every parent's need to have the tools\, information\, and skills to make their child's life easier - as well as their own.  Parents of kids with special needs have even more to ask about\, look for.  For the 4th year\, Birmingham Parent brings Special Needs Information\, Services\, Health Information\, Recreation\, etc. all under one roof at the Pelham Civic Complex.  ADMISSION is free.  Fun activities for kids\, wheelchair accessible.  Speakers and giveaways all day long!\n\n\n\nSponsorships and booth spaces still available for a fee.  Admission to the event is FREE.
X-ALT-DESC;FMTTYPE=text/html:It&#39\;s every parent&#39\;s need to have the tools\, information\, and skills to make their child&#39\;s life easier - as well as their own.&nbsp\; Parents of kids with special needs have even more to ask about\, look for.&nbsp\; For the 4th year\, Birmingham Parent brings Special Needs Information\, Services\, Health Information\, Recreation\, etc. all under one roof at the Pelham Civic Complex.&nbsp\; ADMISSION is free.&nbsp\; Fun activities for kids\, wheelchair accessible.&nbsp\; Speakers and giveaways all day long!<br />\n<br />\nSponsorships and booth spaces still available for a fee.&nbsp\; Admission to the event is FREE.
LOCATION:Pelham Civic Complex & Ice Arena\, Pelham\, AL
UID:e.145.4501
SEQUENCE:3
DTSTAMP:20260424T134457Z
URL:https://business.shelbychamber.org/events/details/birmingham-parent-s-special-needs-expo-2013-04-13-2013-4501
END:VEVENT

END:VCALENDAR
