BEGIN:VCALENDAR
VERSION:2.0
PRODID:-//ChamberMaster//Event Calendar 2.0//EN
METHOD:PUBLISH
X-PUBLISHED-TTL:P3D
REFRESH-INTERVAL:P3D
CALSCALE:GREGORIAN
BEGIN:VEVENT
DTSTART;VALUE=DATE:20140815
DTEND;VALUE=DATE:20140825
TRANSP:TRANSPARENT
X-MICROSOFT-CDO-ALLDAYEVENT:TRUE
SUMMARY:Birmingham Restaurant Week Aug. 15-24\, 2014
DESCRIPTION:Birmingham's Premier Dining Out Event: Birmingham Restaurant Week\n\n\n\nOn Behalf of REV Birmingham\, the organizer for Birmingham Restaurant Week would like to welcome you to Birmingham's Premier Dining Out Event. Spotlighting the Magic City's great culinary community since 2010.\nMission\n\nBirmingham Restaurant Week celebrates Birmingham's acclaimed culinary culture by highlighting its locally-owned and operated restaurants across the area.\n\nOverview\n\nThis ten-day event features some of Birmingham's best locally-owned and operated restaurants\, offering prix fixe menus and drink specials. There are NO tickets or passes required for any restaurants.\n\nFoodies can either revisit their favorite restaurants or explore new dining opportunities. Just browse the list of restaurants and menus provided on our website. Advance reservations are strongly recommended and can be made by calling restaurants directly or visiting their profile online.\n\nPricing\n\nTwo Course Prix-fixe Lunch Menu: $5 & $10\n\nThree Course Prix-fixe Dinner Menu: $10\, $20 & $30.\n\n\n\nVisit http://www.bhamrestaurantweek.com/index.php for a listing of participating restaurants in Birmingham\, Shelby County and all other participating counties in the State of Alabama!  Support your local Greater Shelby County Chamber Members and restaurants\, such as Dixie Fish Company\, that's participating in this 10-day event!\n\n \n\nREV Birmingham\n\nREV Birmingham (REV) revitalizes places and energizes businesses to create vibrancy in the City of Birmingham. REV is an economic development organization that stimulates business growth and improves qaulity of life in Birmingham's City Center and its Neighborhood Commercial Centers. REV is a private-public partnership that was formed in 2012 by the strategic union of Operation New Birmingham and Main Street Birmingham. For more information\, please visit: www.revbirmingham.org.
X-ALT-DESC;FMTTYPE=text/html:<strong>Birmingham&#39\;s Premier Dining Out Event: Birmingham Restaurant Week</strong><br />\n<br />\nOn Behalf of REV Birmingham\, the organizer for Birmingham Restaurant Week would like to welcome you to Birmingham&rsquo\;s Premier Dining Out Event. Spotlighting the Magic City&rsquo\;s great culinary community since 2010.\n<p><b><i><u>Mission</u></i></b></p>\n\n<p>Birmingham Restaurant Week celebrates Birmingham&#39\;s acclaimed culinary culture by highlighting its locally-owned and operated restaurants across the area.</p>\n\n<p><u><em><strong>Overview</strong></em></u></p>\n\n<p>This ten-day event features some of Birmingham&#39\;s best locally-owned and operated restaurants\, offering prix fixe menus and drink specials. There are NO tickets or passes required for any restaurants.</p>\n\n<p>Foodies can either revisit their favorite restaurants or explore new dining opportunities. Just browse the list of restaurants and menus provided on our website. Advance reservations are strongly recommended and can be made by calling restaurants directly or visiting their profile online.</p>\n\n<p><u><em><strong>Pricing</strong></em></u></p>\n\n<p><strong>Two Course </strong>Prix-fixe Lunch Menu: $5 &amp\; $10<br />\n<strong><span style="font-family: Arial\, Verdana\, sans-serif\; font-size: 12px\; ">Three Course </span></strong><span style="font-family: Arial\, Verdana\, sans-serif\; font-size: 12px\; ">Prix-fixe Dinner Menu: $10\, $20 &amp\; $30.<br />\n<br />\nVisit<a href="http://www.bhamrestaurantweek.com/index.php"> </a></span><a href="http://www.bhamrestaurantweek.com/index.php">http://www.bhamrestaurantweek.com/index.php</a> for a listing of participating restaurants in Birmingham\, Shelby County and all other participating counties in the State of Alabama!&nbsp\; Support your local Greater Shelby County Chamber Members and restaurants\, such as <a href="http://dixiefish.co/">Dixie Fish Company</a>\, that&#39\;s pa<span style="font-family: Arial\, Verdana\, sans-serif\; font-size: 12px\; ">rticipating in this 10-day event!</span><br />\n&nbsp\;</p>\n\n<p><em><u><strong>REV Birmingham</strong></u></em></p>\n\n<p><strong>REV Birmingham (REV)</strong> revitalizes places and energizes businesses to create vibrancy in the City of Birmingham. <strong>REV</strong> is an economic development organization that stimulates business growth and improves qaulity of life in Birmingham&#39\;s City Center and its Neighborhood Commercial Centers. <strong>REV</strong> is a private-public partnership that was formed in 2012 by the strategic union of Operation New Birmingham and Main Street Birmingham. For more information\, please visit: <strong>www.revbirmingham.org</strong>.<br />\n&nbsp\;</p>\n
LOCATION:Multiple locations. Visit Birmingham Restaurant Week.
UID:e.145.6163
SEQUENCE:3
DTSTAMP:20260423T120424Z
URL:https://business.shelbychamber.org/events/details/birmingham-restaurant-week-aug-15-24-2014-08-15-2014-6163
END:VEVENT

END:VCALENDAR
