BEGIN:VCALENDAR
VERSION:2.0
PRODID:-//ChamberMaster//Event Calendar 2.0//EN
METHOD:PUBLISH
X-PUBLISHED-TTL:P3D
REFRESH-INTERVAL:P3D
CALSCALE:GREGORIAN
BEGIN:VEVENT
DTSTART:20160404T123000Z
DTEND:20160404T143000Z
X-MICROSOFT-CDO-ALLDAYEVENT:FALSE
SUMMARY:BizWomen Mentoring Monday
DESCRIPTION:MEET YOUR MENTOR at the Birmingham Business Journal's --\n\nBIZWOMEN MENTORING MONDAY EVENT\n\nThe event will offer attendees the opportunity to choose from 40 mentors who are the most-influential women in the community for one-on-one mentoring sessions.\n\n\n\nWhen: Monday\, April 4\, 2016 -- 7:30am-9:30am\n\n\n\nWhere: Renaissance Ross Bridge Golf Resort & Spa
X-ALT-DESC;FMTTYPE=text/html:<div style="text-align: center\;">&nbsp\;</div>\n\n<div style="text-align: center\;"><em><strong>MEET YOUR MENTOR</strong></em> at the Birmingham Business Journal&#39\;s --<br />\n<strong>BIZWOMEN MENTORING MONDAY EVENT</strong></div>\n\n<p>The event will offer attendees the opportunity to choose from 40 mentors who are the most-influential women in the community for one-on-one mentoring sessions.<br />\n<br />\nWhen: Monday\, April 4\, 2016 -- 7:30am-9:30am<br />\n<br />\nWhere: Renaissance Ross Bridge Golf Resort &amp\; Spa</p>\n
LOCATION:Ross Bridge Resport and Spa
UID:e.145.9431
SEQUENCE:3
DTSTAMP:20260422T063958Z
URL:https://business.shelbychamber.org/events/details/bizwomen-mentoring-monday-04-04-2016-9431
END:VEVENT

END:VCALENDAR
