BEGIN:VCALENDAR
VERSION:2.0
PRODID:-//ChamberMaster//Event Calendar 2.0//EN
METHOD:PUBLISH
X-PUBLISHED-TTL:P3D
REFRESH-INTERVAL:P3D
CALSCALE:GREGORIAN
BEGIN:VEVENT
DTSTART;VALUE=DATE:20111123
DTEND;VALUE=DATE:20111126
TRANSP:TRANSPARENT
X-MICROSOFT-CDO-ALLDAYEVENT:TRUE
SUMMARY:Black Friday Deals at Buck Creek Stained Glass
DESCRIPTION:Okay\, here's the big Black Friday Deal! Introduction or Intermediate Copper Foil Classes are normally $225.00 - now through Friday buy a certificate for a 2012 class for only $175.00 - that's a $50.00 savings. HOWEVER - I'm only selling 20\, so when they're gone - they're gone. Call 205-541-3322 to get yours now.
X-ALT-DESC;FMTTYPE=text/html:Okay\, here&#39\;s the big Black Friday Deal! Introduction or Intermediate Copper Foil Classes are normally $225.00 - now through Friday buy a certificate for a 2012 class for only $175.00 - that&#39\;s a $50.00 savings. HOWEVER - I&#39\;m only selling 20\, so when they&#39\;re gone - they&#39\;re gone. Call 205-541-3322 to get yours now.
LOCATION:Buck Creek Stained Glass Old Town Helena
UID:e.145.3621
SEQUENCE:3
DTSTAMP:20260425T171546Z
URL:https://business.shelbychamber.org/events/details/black-friday-deals-at-buck-creek-stained-glass-11-23-2011-3621
END:VEVENT

END:VCALENDAR
