BEGIN:VCALENDAR
VERSION:2.0
PRODID:-//ChamberMaster//Event Calendar 2.0//EN
METHOD:PUBLISH
X-PUBLISHED-TTL:P3D
REFRESH-INTERVAL:P3D
CALSCALE:GREGORIAN
BEGIN:VEVENT
DTSTART:20110627T170000Z
DTEND:20110627T230000Z
X-MICROSOFT-CDO-ALLDAYEVENT:FALSE
SUMMARY:Blood Drive at The UPS Store-Pelham
DESCRIPTION:The UPS Store is sponsoring a Blood Drive at their Pelham location\n\n	Monday\, June 27\, 2011\n\n	12:00 pm-6:00 pm\n\n	3584 US Highway 31 South\n\n	(in the Keystone Shopping Plaza Next to Big Lots)\n\n	(205) 664-2258\n\n	***Free BBQ sandwiches from Johnny Ray's on Hwy 52 and coupons for TCBY ice cream!!!
X-ALT-DESC;FMTTYPE=text/html:<p style="text-align: center\;">\n	<span style="font-size: 18px\;">The UPS Store is sponsoring a Blood Drive at their Pelham location<br />\n	Monday\, June 27\, 2011<br />\n	12:00 pm-6:00 pm<br />\n	3584 US Highway 31 South<br />\n	(in the Keystone Shopping Plaza Next to Big Lots)<br />\n	(205) 664-2258<br />\n	***Free BBQ sandwiches from Johnny Ray&#39\;s on Hwy 52 and coupons for TCBY ice cream!!!</span></p>\n
LOCATION:The UPS Store is sponsoring a Blood Drive at their Pelham location Monday\, June 27\, 2011 12:00 pm-6:00 pm 3584 US Highway 31 South (in the Keystone Shopping Plaza Next to Big Lots) (205) 664-2258
UID:e.145.3445
SEQUENCE:3
DTSTAMP:20260426T022104Z
URL:https://business.shelbychamber.org/events/details/blood-drive-at-the-ups-store-pelham-06-27-2011-3445
END:VEVENT

END:VCALENDAR
