BEGIN:VCALENDAR
VERSION:2.0
PRODID:-//ChamberMaster//Event Calendar 2.0//EN
METHOD:PUBLISH
X-PUBLISHED-TTL:P3D
REFRESH-INTERVAL:P3D
CALSCALE:GREGORIAN
BEGIN:VEVENT
DTSTART:20150220T000000Z
DTEND:20150220T010000Z
X-MICROSOFT-CDO-ALLDAYEVENT:FALSE
SUMMARY:Bluebirds Among Us
DESCRIPTION:Eastern Bluebirds are lovely and beautiful. Patsy Scott coordinates the bluebird trail established long ago by John Findlay and she'll teach you everything you'll want to know about bluebirds. She'll even help you get started on your own trail! Ages 7-13. Registration is required.
X-ALT-DESC;FMTTYPE=text/html:Eastern Bluebirds are lovely and beautiful. Patsy Scott coordinates the bluebird trail established long ago by John Findlay and she&#39\;ll teach you everything you&#39\;ll want to know about bluebirds. She&#39\;ll even help you get started on your own trail!&nbsp\;Ages 7-13. Registration is required.
LOCATION:North Shelby Library 5521 Cahaba Valley Rd. Birmingham\, AL 35242
UID:e.145.7179
SEQUENCE:3
DTSTAMP:20260423T033804Z
URL:https://business.shelbychamber.org/events/details/bluebirds-among-us-02-19-2015-7179
END:VEVENT

END:VCALENDAR
