BEGIN:VCALENDAR
VERSION:2.0
PRODID:-//ChamberMaster//Event Calendar 2.0//EN
METHOD:PUBLISH
X-PUBLISHED-TTL:P3D
REFRESH-INTERVAL:P3D
CALSCALE:GREGORIAN
BEGIN:VEVENT
DTSTART:20151107T013000Z
DTEND:20151107T030000Z
X-MICROSOFT-CDO-ALLDAYEVENT:FALSE
SUMMARY:Blues with Feeling featuring Debbie Bonds
DESCRIPTION:Singer\, guitar player and songwriter Debbie Bond has been paying her dues in the Alabama backwoods for over 30 years backing many traditional Alabama blues musicians in the US and Europe\, including Eddie Kirkland\, Jerry "Boogie" McCain and Willie King. She is a blues activist and founded the award winning Alabama Blues Project\, a non profit that promotes and preserves Alabama blues. In recent years she has turned to fronting her own band and performing her own music.\n\nOpening the show will be the Alabama Blues Project Advanced Band.
X-ALT-DESC;FMTTYPE=text/html:<p>Singer\, guitar player and songwriter Debbie Bond has been paying her dues in the Alabama backwoods for over 30 years backing many traditional Alabama blues musicians in the US and Europe\, including Eddie Kirkland\, Jerry &quot\;Boogie&quot\; McCain and Willie King. She is a blues activist and founded the award winning Alabama Blues Project\, a non profit that promotes and preserves Alabama blues. In recent years she has turned to fronting her own band and performing her own music.</p>\n\n<p>Opening the show will be the Alabama Blues Project Advanced Band.</p>\n\n<p>&nbsp\;</p>\n
LOCATION:Shelby County Arts Council Black Box Theatre 104 Mildred Street Columbiana\, AL 35051
UID:e.145.7924
SEQUENCE:3
DTSTAMP:20260422T140947Z
URL:https://business.shelbychamber.org/events/details/blues-with-feeling-featuring-debbie-bonds-11-06-2015-7924
END:VEVENT

END:VCALENDAR
