BEGIN:VCALENDAR
VERSION:2.0
PRODID:-//ChamberMaster//Event Calendar 2.0//EN
METHOD:PUBLISH
X-PUBLISHED-TTL:P3D
REFRESH-INTERVAL:P3D
CALSCALE:GREGORIAN
BEGIN:VEVENT
DTSTART:20130817T230000Z
DTEND:20130818T020000Z
X-MICROSOFT-CDO-ALLDAYEVENT:FALSE
SUMMARY:Boiling and Bragging to Benefit Critical Care Transport Children's Hospital
DESCRIPTION:Preseason tailgate and braggin party.   Food\, dollar beer\, music\, games and fun.\n\nBig Al and Aubie will be there.\n\nMost SEC teams and some ACC teams will be represented. \n\nCome have a good time.\n\nAll funds benefit Children's Hospital.
X-ALT-DESC;FMTTYPE=text/html:Preseason tailgate and braggin party.&nbsp\;&nbsp\; Food\, dollar beer\, music\, games and fun.<br />\nBig Al and Aubie will be there.<br />\nMost SEC teams and some ACC teams will be represented.&nbsp\;<br />\nCome have a good time.<br />\nAll funds benefit Children&#39\;s Hospital.
LOCATION:Otey's Tavern
UID:e.145.4703
SEQUENCE:3
DTSTAMP:20260424T065959Z
URL:https://business.shelbychamber.org/events/details/boiling-and-bragging-to-benefit-critical-care-transport-children-s-hospital-08-17-2013-4703
END:VEVENT

END:VCALENDAR
