BEGIN:VCALENDAR
VERSION:2.0
PRODID:-//ChamberMaster//Event Calendar 2.0//EN
METHOD:PUBLISH
X-PUBLISHED-TTL:P3D
REFRESH-INTERVAL:P3D
CALSCALE:GREGORIAN
BEGIN:VEVENT
DTSTART:20160718T230000Z
DTEND:20160719T000000Z
X-MICROSOFT-CDO-ALLDAYEVENT:FALSE
SUMMARY:Book Character Olympics
DESCRIPTION:How do you stack up against great book characters? Ages 7   12. Registration required. Sponsored by ACCi.
X-ALT-DESC;FMTTYPE=text/html:<span style="font-family:calibri light\,sans-serif">How do you stack up against great book characters? Ages 7 &ndash\; 12. Registration required. <strong>Sponsored by ACCi.</strong></span>
LOCATION:North Shelby Library 5521 Cahaba Valley Road Birmingham\, AL 35242
UID:e.145.9599
SEQUENCE:3
DTSTAMP:20260422T011625Z
URL:https://business.shelbychamber.org/events/details/book-character-olympics-07-18-2016-9599
END:VEVENT

END:VCALENDAR
