BEGIN:VCALENDAR
VERSION:2.0
PRODID:-//ChamberMaster//Event Calendar 2.0//EN
METHOD:PUBLISH
X-PUBLISHED-TTL:P3D
REFRESH-INTERVAL:P3D
CALSCALE:GREGORIAN
BEGIN:VEVENT
DTSTART;VALUE=DATE:20120922
DTEND;VALUE=DATE:20120923
TRANSP:TRANSPARENT
X-MICROSOFT-CDO-ALLDAYEVENT:TRUE
SUMMARY:Book Signing
DESCRIPTION:Darla Hall\, creator of the War Eagle Activities Book & App\, will be signing books at the AU Bookstore 3 hours prior to the kick-off of the Auburn vs. LSU game on Sept. 22.
X-ALT-DESC;FMTTYPE=text/html:Darla Hall\, creator of the War Eagle Activities Book &amp\; App\, will be signing books at the AU Bookstore 3 hours prior to the kick-off of the Auburn vs. LSU game on Sept. 22.
LOCATION:AU Bookstore (on campus)
UID:e.145.4383
SEQUENCE:3
DTSTAMP:20260425T010836Z
URL:https://business.shelbychamber.org/events/details/book-signing-09-22-2012-4383
END:VEVENT

END:VCALENDAR
