BEGIN:VCALENDAR
VERSION:2.0
PRODID:-//ChamberMaster//Event Calendar 2.0//EN
METHOD:PUBLISH
X-PUBLISHED-TTL:P3D
REFRESH-INTERVAL:P3D
CALSCALE:GREGORIAN
BEGIN:VEVENT
DTSTART;VALUE=DATE:20120929
DTEND;VALUE=DATE:20120930
TRANSP:TRANSPARENT
X-MICROSOFT-CDO-ALLDAYEVENT:TRUE
SUMMARY:Book Signing at UA Game
DESCRIPTION:Darla Hall\, creator of the Roll Tide Activities Book & App\, will be signing books at the Sup Store tent 3 hours prior to the kick-off of the Alabama vs. Ole Miss game on Sept. 29.
X-ALT-DESC;FMTTYPE=text/html:Darla Hall\, creator of the Roll Tide Activities Book &amp\; App\, will be signing books at the Sup Store tent 3 hours prior to the kick-off of the Alabama vs. Ole Miss game on Sept. 29. &nbsp\;
LOCATION:Sup Store tent on the Quad
UID:e.145.4384
SEQUENCE:3
DTSTAMP:20260425T010903Z
URL:https://business.shelbychamber.org/events/details/book-signing-at-ua-game-09-29-2012-4384
END:VEVENT

END:VCALENDAR
