BEGIN:VCALENDAR
VERSION:2.0
PRODID:-//ChamberMaster//Event Calendar 2.0//EN
METHOD:PUBLISH
X-PUBLISHED-TTL:P3D
REFRESH-INTERVAL:P3D
CALSCALE:GREGORIAN
BEGIN:VEVENT
DTSTART:20161016T183000Z
DTEND:20161016T200000Z
X-MICROSOFT-CDO-ALLDAYEVENT:FALSE
SUMMARY:Brandi Overbeck Black Box Theatre Performance
DESCRIPTION:See Birmingham vocalist Brandi Overbeck perform with the Shades of Grey band\, October 16 in the Shelby County Arts Council Black Box Theatre! Doors open at 1:30 with music starting at 2:00 pm! Tickets are $20\, with reserved seating available for SCAC members.
X-ALT-DESC;FMTTYPE=text/html:<strong>See Birmingham vocalist Brandi Overbeck perform with the Shades of Grey band\, October 16 in the Shelby County Arts Council Black Box Theatre! Doors open at 1:30 with music starting at 2:00 pm! Tickets are $20\, with reserved seating available for SCAC members.&nbsp\;&nbsp\;&nbsp\;</strong>&nbsp\;&nbsp\;&nbsp\;&nbsp\;&nbsp\;<br />\n&nbsp\;
LOCATION:Shelby County Arts Council Black Box Theatre Performance Space 104 Mildred Street Columbiana\, AL 35051
UID:e.145.9736
SEQUENCE:3
DTSTAMP:20260421T164802Z
URL:https://business.shelbychamber.org/events/details/brandi-overbeck-black-box-theatre-performance-9736
END:VEVENT

END:VCALENDAR
