BEGIN:VCALENDAR
VERSION:2.0
PRODID:-//ChamberMaster//Event Calendar 2.0//EN
METHOD:PUBLISH
X-PUBLISHED-TTL:P3D
REFRESH-INTERVAL:P3D
CALSCALE:GREGORIAN
BEGIN:VEVENT
DTSTART:20151205T150000Z
DTEND:20151205T163000Z
X-MICROSOFT-CDO-ALLDAYEVENT:FALSE
SUMMARY:Breakfast with Santa
DESCRIPTION:Join us for a great time of food\, fun\, and pictures with Santa. Breakfast will be from 9:00   9:30. Pictures with Santa and a Christmas craft will be 9:30 - 10:30. Tickets are $5.00 per person\, and is due at the time of registration. Please call or visit the library for to purchase tickets. All Ages are welcome.  Tickets are on sale now!
X-ALT-DESC;FMTTYPE=text/html:Join us for a great time of food\, fun\, and pictures with Santa. Breakfast will be from 9:00 &ndash\; 9:30. Pictures with Santa and a Christmas craft will be 9:30 - 10:30. Tickets are $5.00 per person\, and is due at the time of registration. Please call or visit the library for to purchase tickets. All Ages are welcome.&nbsp\; Tickets are on sale now!
LOCATION:5521 Cahaba Valley Road\, Birmingham AL 35242
UID:e.145.7976
SEQUENCE:3
DTSTAMP:20260422T140056Z
URL:https://business.shelbychamber.org/events/details/breakfast-with-santa-12-05-2015-7976
END:VEVENT

END:VCALENDAR
