BEGIN:VCALENDAR
VERSION:2.0
PRODID:-//ChamberMaster//Event Calendar 2.0//EN
METHOD:PUBLISH
X-PUBLISHED-TTL:P3D
REFRESH-INTERVAL:P3D
CALSCALE:GREGORIAN
BEGIN:VEVENT
DTSTART:20161210T150000Z
DTEND:20161210T163000Z
X-MICROSOFT-CDO-ALLDAYEVENT:FALSE
SUMMARY:Breakfast with Santa
DESCRIPTION:Join us for a great time of food\, fun\, and pictures with Santa. Breakfast will be from 9:00   9:30. Pictures with Santa and a Christmas craft will be 9:30 - 10:30. Tickets are $5.00 per person\, and is due at the time of registration. Please call or visit the library for to purchase tickets. All Ages are welcome.
X-ALT-DESC;FMTTYPE=text/html:<span style="font-family:calibri light\,sans-serif"><span style="font-size:12.0pt">Join us for a great time of food\, fun\, and pictures with Santa. Breakfast will be from 9:00 &ndash\; 9:30. Pictures with Santa and a Christmas craft will be 9:30 - 10:30. Tickets are $5.00 per person\, and is due at the time of registration. Please call or visit the library for to purchase tickets. All Ages are welcome.&nbsp\;&nbsp\;</span></span>
LOCATION:North Shelby Library 5521 Cahaba Valley Road Birmingham\, AL 35242
UID:e.145.9713
SEQUENCE:3
DTSTAMP:20260421T132124Z
URL:https://business.shelbychamber.org/events/details/breakfast-with-santa-12-10-2016-9713
END:VEVENT

END:VCALENDAR
