BEGIN:VCALENDAR
VERSION:2.0
PRODID:-//ChamberMaster//Event Calendar 2.0//EN
METHOD:PUBLISH
X-PUBLISHED-TTL:P3D
REFRESH-INTERVAL:P3D
CALSCALE:GREGORIAN
BEGIN:VEVENT
DTSTART:20131214T150000Z
DTEND:20131214T163000Z
X-MICROSOFT-CDO-ALLDAYEVENT:FALSE
SUMMARY:Breakfast with Santa
DESCRIPTION:Join us for a great time of food\, fun\, and pictures with Santa. Breakfast will be from 9:00 - 9:30. Pictures with Santa and a Christmas craft will be 9:30 - 10:30. Registration Required. A $5.00 fee per person is due at the time of registration. All Ages are welcome. Tickets go on sale 11/18/2013.
X-ALT-DESC;FMTTYPE=text/html:Join us for a great time of food\, fun\, and pictures with Santa. Breakfast will be from 9:00 - 9:30. Pictures with Santa and a Christmas craft will be 9:30 - 10:30. Registration Required. A $5.00 fee per person is due at the time of registration. All Ages are welcome. Tickets go on sale 11/18/2013. 
LOCATION:North Shelby Library
UID:e.145.4928
SEQUENCE:3
DTSTAMP:20260424T002657Z
URL:https://business.shelbychamber.org/events/details/breakfast-with-santa-12-14-2013-4928
END:VEVENT

END:VCALENDAR
