BEGIN:VCALENDAR
VERSION:2.0
PRODID:-//ChamberMaster//Event Calendar 2.0//EN
METHOD:PUBLISH
X-PUBLISHED-TTL:P3D
REFRESH-INTERVAL:P3D
CALSCALE:GREGORIAN
BEGIN:VEVENT
DTSTART:20140908T180000Z
DTEND:20140908T220000Z
X-MICROSOFT-CDO-ALLDAYEVENT:FALSE
SUMMARY:Bridal Bliss 2014: September 28 at Workplay
DESCRIPTION:Bridal Bliss 2014\n\n\n\nSeptember 28\, 2014 - Workplay\, Birmingham\, AL.\n\n\n\nBridal Bliss 2014 anticipates hosting 200 plus brides from the Central Alabama Region. This event will include fabulous giveaways\, musical entertainment\, a fashion show\, and most importantly an opportunity for brides-to-be to meet various vendors dedicated to making their special day perfect. For more information about becoming a sponsor or vendor\, please email us at info@bridalbliss2014.com  or visit us on the web at http://www.bridalbliss2014.com.\n\n                                                                                                                                                                                                                                                         Wedding Planners\, Florists\, Photographers and more visit us on the web at www.bridalbliss2014.com for more details.\n\n\n\nInterested in being a vendor download the vendor application packet and forward to us.\n\n\n\nInterested in securing a sponsorship download the sponsorship packet online and forward to us with payment.\n\n\n\nBridal Bliss 2014\n\n9340 Helena Road Suite F-186\n\nBirmingham\, AL 35244
X-ALT-DESC;FMTTYPE=text/html:<span style="font-size:14px\;"><strong>Bridal Bliss 2014</strong></span><br />\n<br />\nSeptember 28\, 2014 - Workplay\, Birmingham\, AL.<br />\n<br />\nBridal Bliss 2014 anticipates hosting 200 plus brides from the Central Alabama Region. This event will include fabulous giveaways\, musical entertainment\, a fashion show\, and most importantly an opportunity for brides-to-be to meet various vendors dedicated to making their special day perfect. For more information about becoming a sponsor or vendor\, please email us at info@bridalbliss2014.com&nbsp\; or visit us on the web at http://www.bridalbliss2014.com.<br />\n<span style="font-size:14px\;">&nbsp\;&nbsp\;&nbsp\;&nbsp\;&nbsp\;&nbsp\;&nbsp\;&nbsp\;&nbsp\;&nbsp\;&nbsp\;&nbsp\;&nbsp\;&nbsp\;&nbsp\;&nbsp\;&nbsp\;&nbsp\;&nbsp\;&nbsp\;&nbsp\;&nbsp\;&nbsp\;&nbsp\;&nbsp\;&nbsp\;&nbsp\;&nbsp\;&nbsp\;&nbsp\;&nbsp\;&nbsp\;&nbsp\;&nbsp\;&nbsp\;&nbsp\;&nbsp\;&nbsp\;&nbsp\;&nbsp\;&nbsp\;&nbsp\;&nbsp\;&nbsp\;&nbsp\;&nbsp\;&nbsp\;&nbsp\;&nbsp\;&nbsp\;&nbsp\;&nbsp\;&nbsp\;&nbsp\;&nbsp\;&nbsp\;&nbsp\;&nbsp\;&nbsp\;&nbsp\;&nbsp\;&nbsp\;&nbsp\;&nbsp\;&nbsp\;&nbsp\;&nbsp\;&nbsp\;&nbsp\;&nbsp\;&nbsp\;&nbsp\;&nbsp\;&nbsp\;&nbsp\;&nbsp\;&nbsp\;&nbsp\;&nbsp\;&nbsp\;&nbsp\;&nbsp\;&nbsp\;&nbsp\;&nbsp\;&nbsp\;&nbsp\;&nbsp\;&nbsp\;&nbsp\;&nbsp\;&nbsp\;&nbsp\;&nbsp\;&nbsp\;&nbsp\;&nbsp\;&nbsp\;&nbsp\;&nbsp\;&nbsp\;&nbsp\;&nbsp\;&nbsp\;&nbsp\;&nbsp\;&nbsp\;&nbsp\;&nbsp\;&nbsp\;&nbsp\;&nbsp\;&nbsp\;&nbsp\;&nbsp\;&nbsp\;&nbsp\;&nbsp\;&nbsp\;&nbsp\;&nbsp\;&nbsp\;&nbsp\;&nbsp\;&nbsp\;&nbsp\;&nbsp\;&nbsp\;&nbsp\;&nbsp\;&nbsp\;&nbsp\;&nbsp\;&nbsp\;&nbsp\;&nbsp\;&nbsp\;&nbsp\;&nbsp\;&nbsp\;&nbsp\;&nbsp\;&nbsp\;&nbsp\;&nbsp\;&nbsp\;&nbsp\;&nbsp\;&nbsp\;&nbsp\;&nbsp\;&nbsp\;&nbsp\;&nbsp\;&nbsp\;&nbsp\;&nbsp\;&nbsp\;&nbsp\;&nbsp\;&nbsp\;&nbsp\;&nbsp\;&nbsp\;&nbsp\;&nbsp\;&nbsp\;&nbsp\;&nbsp\;&nbsp\;&nbsp\;&nbsp\;&nbsp\;&nbsp\;&nbsp\;&nbsp\;&nbsp\;&nbsp\;&nbsp\;&nbsp\;&nbsp\;&nbsp\;&nbsp\;&nbsp\;&nbsp\;&nbsp\;&nbsp\;&nbsp\;&nbsp\;&nbsp\;&nbsp\;&nbsp\;&nbsp\;&nbsp\;&nbsp\;&nbsp\;&nbsp\;&nbsp\;&nbsp\;&nbsp\;&nbsp\;&nbsp\;&nbsp\;&nbsp\;&nbsp\;&nbsp\;&nbsp\;&nbsp\;&nbsp\;&nbsp\;&nbsp\;&nbsp\;&nbsp\;&nbsp\;&nbsp\;&nbsp\;&nbsp\;&nbsp\;&nbsp\;&nbsp\;&nbsp\;&nbsp\;&nbsp\;&nbsp\;&nbsp\;&nbsp\;&nbsp\;&nbsp\;&nbsp\;&nbsp\;&nbsp\;&nbsp\;&nbsp\;&nbsp\;&nbsp\;&nbsp\;&nbsp\;&nbsp\;&nbsp\;&nbsp\;&nbsp\;&nbsp\;&nbsp\;&nbsp\;&nbsp\;&nbsp\;&nbsp\;&nbsp\; Wedding Planners\, Florists\, Photographers and more visit us on the web at <a href="http://www.bridalbliss2014.com">www.bridalbliss2014.com</a> for more details.<br />\n<br />\nInterested in being a vendor download the vendor application packet and forward to us.<br />\n<br />\nInterested in securing a sponsorship download the sponsorship packet online and forward to us with payment.<br />\n<br />\nBridal Bliss 2014<br />\n9340 Helena Road Suite F-186<br />\nBirmingham\, AL 35244</span>
LOCATION:Workplay - 500 23rd Street South Birmingham\, AL 35233
UID:e.145.5519
SEQUENCE:3
DTSTAMP:20260423T103904Z
URL:https://business.shelbychamber.org/events/details/bridal-bliss-2014-september-28-at-workplay-09-08-2014-5519
END:VEVENT

END:VCALENDAR
