BEGIN:VCALENDAR
VERSION:2.0
PRODID:-//ChamberMaster//Event Calendar 2.0//EN
METHOD:PUBLISH
X-PUBLISHED-TTL:P3D
REFRESH-INTERVAL:P3D
CALSCALE:GREGORIAN
BEGIN:VEVENT
DTSTART:20120303T140000Z
DTEND:20120303T183000Z
X-MICROSOFT-CDO-ALLDAYEVENT:FALSE
SUMMARY:Brocks Gap Pistol Course Event at Brock's Gap Training Center\, Inc.
DESCRIPTION:The Brocks Gap Pistol course offers the opportunity to learn the basic operation and differences between revolvers and semi-automatic handguns\, learn the basic rules of safe handling\, cleaning and storing of firearms with a brief summary of the carry and defense laws in Alabama.\n\n	\n\n	Attendees will initially shoot 22LR revolvers and semi automatics during the instruction range phase with a final culmination of a caliber ladder which allows attendees to fire a variety of revolvers/semi-automatics from 22LR to .44 magnum.\n\n	\n\n	Attendees will be allowed to shoot and receive instruction on their own handguns during the caliber ladder. Please do not bring loaded firearms onto property.\n\n	Attendees must provide their own ammo if they choose to use their firearms.\n.
X-ALT-DESC;FMTTYPE=text/html:<p class="MsoNormal" style="margin: 0in 0in 0pt">\n	<span lang="EN" style="color: #222222\; mso-ansi-language: en"><font size="3"><font face="Times New Roman">The Brocks Gap Pistol course offers&nbsp\;the opportunity to learn the basic operation and differences between revolvers and semi-automatic handguns\, learn the basic rules of safe handling\, cleaning and storing of firearms with a brief summary of the carry and defense laws in Alabama.<br />\n	<br />\n	Attendees will initially shoot 22LR revolvers and semi automatics during the instruction range phase with a final culmination of a caliber ladder which allows attendees to fire a variety of revolvers/semi-automatics from 22LR to .44 magnum.<br />\n	<br />\n	Attendees will be allowed to shoot and receive instruction on their own handguns during the caliber ladder. <b style="mso-bidi-font-weight: normal">Please do not bring loaded firearms onto property</b>.<br />\n	Attendees must provide their own ammo if they choose to use their firearms.</font></font></span></p>\n.
LOCATION:Brocks Gap Training Center 3721 South Shades Crest Road Birmingham\, AL 35244 USA Ph: 205-743-8609
UID:e.145.3904
SEQUENCE:3
DTSTAMP:20260425T102700Z
URL:https://business.shelbychamber.org/events/details/brocks-gap-pistol-course-event-at-brock-s-gap-training-center-inc-03-03-2012-3904
END:VEVENT

END:VCALENDAR
