BEGIN:VCALENDAR
VERSION:2.0
PRODID:-//ChamberMaster//Event Calendar 2.0//EN
METHOD:PUBLISH
X-PUBLISHED-TTL:P3D
REFRESH-INTERVAL:P3D
CALSCALE:GREGORIAN
BEGIN:VEVENT
DTSTART;VALUE=DATE:20110705
DTEND;VALUE=DATE:20110706
TRANSP:TRANSPARENT
X-MICROSOFT-CDO-ALLDAYEVENT:TRUE
SUMMARY:BUILD\, THROW\, FIRE! Aftrnoon
DESCRIPTION:BUILD\, THROW\, FIRE! Afternoon\n\n\n\n* Make a unique hand-built vessel your very first class!\n\n* Work with clay on the wheel.\n\n* Develop and improve skills and become more accomplished in the art of ceramics (Can be adapted to all experience levels).\n\n\n\nCost includes material\, firing\, and glazes.\n\n\n\nJune/July Class: June 14 - July 26\, 2011\n\n\n\n6 Weeks Ages 15 - Adult
X-ALT-DESC;FMTTYPE=text/html:BUILD\, THROW\, FIRE! Afternoon<br />\n<br />\n* Make a unique hand-built vessel your very first class!<br />\n* Work with clay on the wheel.<br />\n* Develop and improve skills and become more accomplished in the art of ceramics (Can be adapted to all experience levels).<br />\n<br />\nCost includes material\, firing\, and glazes.<br />\n<br />\nJune/July Class: June 14 - July 26\, 2011<br />\n<br />\n6 Weeks Ages 15 - Adult 
LOCATION:Shelby County Arts Council Studio 104 Mildred St Columbiana AL 35051
UID:e.145.3184
SEQUENCE:3
DTSTAMP:20260426T005519Z
URL:https://business.shelbychamber.org/events/details/build-throw-fire-aftrnoon-07-05-2011-3184
END:VEVENT

END:VCALENDAR
