BEGIN:VCALENDAR
VERSION:2.0
PRODID:-//ChamberMaster//Event Calendar 2.0//EN
METHOD:PUBLISH
X-PUBLISHED-TTL:P3D
REFRESH-INTERVAL:P3D
CALSCALE:GREGORIAN
BEGIN:VEVENT
DTSTART:20110719T230000Z
DTEND:20110720T013000Z
X-MICROSOFT-CDO-ALLDAYEVENT:FALSE
SUMMARY:BUILD\, THROW\, FIRE! Evening
DESCRIPTION:BUILD\, THROW\, FIRE! Evening\n\n\n\nTuesday Evening Adult Pottery\n\n\n\n* Make a unique hand-built vessel your very first class!\n\n* Work with clay on the wheel.\n\n* Develop and improve skills and become more accomplished in the art of ceramics\n\n* Cost includes material\, firing\, and glazes.\n\n\n\nJune/July Class: June 14 - July 26\, 2011\n\nTuesdays\, 6:00 - 8:30PM\n\n6 Weeks\n\nAges 15-adult
X-ALT-DESC;FMTTYPE=text/html:BUILD\, THROW\, FIRE! Evening<br />\n<br />\nTuesday Evening Adult Pottery<br />\n<br />\n* Make a unique hand-built vessel your very first class!<br />\n* Work with clay on the wheel.<br />\n* Develop and improve skills and become more accomplished in the art of ceramics<br />\n* Cost includes material\, firing\, and glazes.<br />\n<br />\nJune/July Class: June 14 - July 26\, 2011<br />\nTuesdays\, 6:00 - 8:30PM<br />\n6 Weeks<br />\nAges 15-adult
LOCATION:Shelby County Arts Council Studio 104 Mildred St. Columbiana\, AL 35051
UID:e.145.3180
SEQUENCE:3
DTSTAMP:20260426T005012Z
URL:https://business.shelbychamber.org/events/details/build-throw-fire-evening-07-19-2011-3180
END:VEVENT

END:VCALENDAR
