BEGIN:VCALENDAR
VERSION:2.0
PRODID:-//ChamberMaster//Event Calendar 2.0//EN
METHOD:PUBLISH
X-PUBLISHED-TTL:P3D
REFRESH-INTERVAL:P3D
CALSCALE:GREGORIAN
BEGIN:VEVENT
DTSTART:20170328T163000Z
DTEND:20170328T180000Z
X-MICROSOFT-CDO-ALLDAYEVENT:FALSE
SUMMARY:Building a Branded Organization (and why that means more than a nice logo!)
DESCRIPTION:Building a Branded Organization (And why that means more than a nice logo!) Learn how to develop a brand culture within your organization so you can deliver the desired customer experience each and every time. Whether your company has one employee or a team of 1\,000\, learn how your brand can become the filter through which you drive your company to success.\n\n\n\nDiscover your actual brand. (It's probably not what you think it is.)\n\n	Identify and close the "gaps" in your organization's ability to deliver on the brand promise\n	Understand how to make your brand a part of your company's culture\n	Learn how to evolve your brand into a driver of your success\n\nBethany Meadows is the founder and President of Vertical Solutions Media\, a full-service marketing agency located in McCalla\, Ala. Bethany and her team work with companies in over a dozen industries including banking\, healthcare\, professional services\, non-profits\, retail and more. They specialize in a "team" business model which allows them to integrate into their client's organization as part of their daily operations. While Vertical Solutions Media provides a full-range of marketing and public relations services\, they especially love brand development\, content marketing and creating unique marketing concepts that help organizations get noticed in a busy marketplace.\n\n\n\nBethany is also the host of Dancing in the Rain\, a weekly Christian talk radio show that airs on WXJC. The guest-driven show shares inspirational stories of those who have walked through a storm of life so that others might find hope in their own journey.\n\n\n\nIn her spare time\, she remodels and "flips" houses with her husband\, enjoys CrossFit and can be found paddling a kayak around the lake in her backyard. Most of all\, Bethany loves spending time her large family of 7 children (1 biological\, 4 adopted and 2 step children) and 1 grandbaby (so far!).\n\n\n\nMarch 28th @ 11:30-1:00PM The Club Please register by Friday\, March 24th
X-ALT-DESC;FMTTYPE=text/html:Building a Branded Organization (And why that means more than a nice logo!) Learn how to develop a brand culture within your organization so you can deliver the desired customer experience each and every time. Whether your company has one employee or a team of 1\,000\, learn how your brand can become the filter through which you drive your company to success.<br />\n<br />\nDiscover your actual brand. (It&rsquo\;s probably not what you think it is.)\n<ul>\n	<li>Identify and close the &ldquo\;gaps&rdquo\; in your organization&rsquo\;s ability to deliver on the brand promise</li>\n	<li>Understand how to make your brand a part of your company&rsquo\;s culture</li>\n	<li>Learn how to evolve your brand into a driver of your success</li>\n</ul>\nBethany Meadows is the founder and President of Vertical Solutions Media\, a full-service marketing agency located in McCalla\, Ala. Bethany and her team work with companies in over a dozen industries including banking\, healthcare\, professional services\, non-profits\, retail and more. They specialize in a &ldquo\;team&rdquo\; business model which allows them to integrate into their client&rsquo\;s organization as part of their daily operations. While Vertical Solutions Media provides a full-range of marketing and public relations services\, they especially love brand development\, content marketing and creating unique marketing concepts that help organizations get noticed in a busy marketplace.<br />\n<br />\nBethany is also the host of Dancing in the Rain\, a weekly Christian talk radio show that airs on WXJC. The guest-driven show shares inspirational stories of those who have walked through a storm of life so that others might find hope in their own journey.<br />\n<br />\nIn her spare time\, she remodels and &ldquo\;flips&rdquo\; houses with her husband\, enjoys CrossFit and can be found paddling a kayak around the lake in her backyard. Most of all\, Bethany loves spending time her large family of 7 children (1 biological\, 4 adopted and 2 step children) and 1 grandbaby (so far!).<br />\n<br />\nMarch 28th @ 11:30-1:00PM The Club Please register by Friday\, March 24th
LOCATION:The Club
UID:e.145.10519
SEQUENCE:3
DTSTAMP:20260419T152759Z
URL:https://business.shelbychamber.org/events/details/building-a-branded-organization-and-why-that-means-more-than-a-nice-logo-10519
END:VEVENT

END:VCALENDAR
