BEGIN:VCALENDAR
VERSION:2.0
PRODID:-//ChamberMaster//Event Calendar 2.0//EN
METHOD:PUBLISH
X-PUBLISHED-TTL:P3D
REFRESH-INTERVAL:P3D
CALSCALE:GREGORIAN
BEGIN:VEVENT
DTSTART:20120802T220000Z
DTEND:20120802T233000Z
X-MICROSOFT-CDO-ALLDAYEVENT:FALSE
SUMMARY:Business After Hours Bessemer Business Incubation System
DESCRIPTION:On August 2\, 2012\, the Downtown Entrepreneurial Center\, in conjunction with the Bessemer Chamber of Commerce\, will host a Business After Hours from 5pm - 6:30pm. All are welcome to attend.  Please click here for a PDF printable flyer for more details.\n\n\n\nDevron A. Veasley\, MBA\n\nDirector - Bessemer Business Incubation System\n\nActing Director - Bessemer Industrial Development Board\n\nOfc 1:  205.481.2101\n\nOfc 2:  205.481.4800\n\nwww.bessemerincubator.net\n\n"Developing Business Today\, For Tomorrow"
X-ALT-DESC;FMTTYPE=text/html:On August 2\, 2012\, the Downtown Entrepreneurial Center\, in conjunction with the Bessemer Chamber of Commerce\, will host a Business After Hours from 5pm - 6:30pm. All are welcome to attend.&nbsp\; <a href="http://cloud.chambermaster.com/userfiles/UserFiles/chambers/145/File/Community Events/BAHatBessemerBusinessIncubationSystem08-02-2012.pdf">Please click here for a PDF printable flyer for more details</a>.<br />\n<br />\nDevron A. Veasley\, MBA<br />\nDirector - Bessemer Business Incubation System<br />\nActing Director - Bessemer Industrial Development Board<br />\nOfc 1:&nbsp\; 205.481.2101<br />\nOfc 2:&nbsp\; 205.481.4800<br />\nwww.bessemerincubator.net<br />\n&quot\;Developing Business Today\, For Tomorrow&quot\;
LOCATION:Bessemer Business Incubation System
UID:e.145.4268
SEQUENCE:3
DTSTAMP:20260425T024757Z
URL:https://business.shelbychamber.org/events/details/business-after-hours-bessemer-business-incubation-system-08-02-2012-4268
END:VEVENT

END:VCALENDAR
