BEGIN:VCALENDAR
VERSION:2.0
PRODID:-//ChamberMaster//Event Calendar 2.0//EN
METHOD:PUBLISH
X-PUBLISHED-TTL:P3D
REFRESH-INTERVAL:P3D
CALSCALE:GREGORIAN
BEGIN:VEVENT
DTSTART:20110902T163000Z
DTEND:20110902T180000Z
X-MICROSOFT-CDO-ALLDAYEVENT:FALSE
SUMMARY:Business First Fridays
DESCRIPTION:Business First Fridays\n\n	Stepping up to greater success!\n\n\nPresented by the Central Alabama Women's Business Center and our sponsor:\n\n\n\n\n\nJoin us on September 2\, 2011\, for networking and educational workshops featuring local speaker on a variety of business-related topics for today's growing small businesses in our area.  Click here for a printable flier:  Business First Fridays.\n\n\n	The 1st Friday of each month from 11:30 am until 1 pm\n\n	Shelby County Services Building\, 2nd Floor Community Room\, 1123 County Services Drive\, Pelham\, AL 35124\n\n	\n\n	Registration can be done @  www.cawbc.eventbrite.com.\n\n	 FREE\n\n	Don't forget to bring your brown bag lunch!\n\n	Pre-registration required in ADVANCE.\n\n	Seats Fill Quickly!\n\n	Call (205) 453-0249 or email events@cawbc.org to reserve your seat today.\n\n\nThe Central Alabama Women's Business Center is a non-profit organization whose mission is to help women-owned businesses grow and succeed.\n\n\n\nLearn more at www.cawbc.org.
X-ALT-DESC;FMTTYPE=text/html:<p style="text-align: center\;">\n	<span style="font-size: 24px\;"><strong>Business First Fridays</strong></span></p>\n<p style="text-align: center\;">\n	<span style="font-size: 18px\;"><strong>Stepping up to greater success!</strong></span></p>\n<br />\nPresented by the <a href="http://www.cawbc.org">Central Alabama Women&#39\;s Business Center</a> and our sponsor:<br />\n<br />\n<br />\nJoin us on September 2\, 2011\, for networking and educational workshops featuring local speaker on a variety of business-related topics for today&#39\;s growing small businesses in our area.&nbsp\; Click here for a printable flier:&nbsp\; <a href="http://cloud.chambermaster.com/userfiles/UserFiles/chambers/145/File/Biz1stFridays.pdf">Business First Fridays</a>.<br />\n<p style="text-align: center\;">\n	<span style="font-size: 14px\;"><strong>The 1st Friday of each month from 11:30 am until 1 pm<br />\n	</strong></span>Shelby County Services Building\, 2nd Floor Community Room\, 1123 County Services Drive\, Pelham\, AL 35124<br />\n	<br />\n	Registration can be done @&nbsp\; <a href="http://www.cawbc.eventbrite.com">www.cawbc.eventbrite.com</a>.<br />\n	<span style="font-size: 14px\;"> FREE<br />\n	<span style="font-size: 12px\;"><em>Don&#39\;t forget to bring your brown bag lunch!</em></span></span></p>\n<p style="text-align: center\;">\n	<span style="font-size: 12px\;">Pre-registration required in <strong>ADVANCE</strong>.<br />\n	Seats Fill Quickly!<br />\n	<strong>Call (205) 453-0249 or email <a href="mailto:events@cawbc.org?subject=Business%20First%20Fridays%20at%20M%26F%20Bank%20Pelham&amp\;body=This%20email%20is%20from%20the%20Greater%20Shelby%20County%20Chamber%20of%20Commerce%20website%20in%20regards%20to%20Business%20First%20Fridays%20at%20M%26F%20Bank%20on%20the%20event%20calendar.">events@cawbc.org</a> to reserve your seat today.</strong></span></p>\n<br />\n<span style="font-size: 11px\;"><strong>The Central Alabama Women&#39\;s Business Center is a non-profit organization whose mission is to help women-owned businesses grow and succeed.<br />\n<br />\nLearn more at <a href="http://www.cawbc.org">www.cawbc.org</a>.</strong></span>
LOCATION:Shelby County Services Building\, 2nd Floor Community Room\, 1123 County Services Drive\, Pelham\, AL 35124 Registration can be done @ www.cawbc.eventbrite.com.
UID:e.145.2702
SEQUENCE:3
DTSTAMP:20260425T212952Z
URL:https://business.shelbychamber.org/events/details/business-first-fridays-09-02-2011-2702
END:VEVENT

END:VCALENDAR
