BEGIN:VCALENDAR
VERSION:2.0
PRODID:-//ChamberMaster//Event Calendar 2.0//EN
METHOD:PUBLISH
X-PUBLISHED-TTL:P3D
REFRESH-INTERVAL:P3D
CALSCALE:GREGORIAN
BEGIN:VEVENT
DTSTART:20140325T230000Z
DTEND:20140326T010000Z
X-MICROSOFT-CDO-ALLDAYEVENT:FALSE
SUMMARY:Business Golf for Ladies Networking Social
DESCRIPTION:Golf for Ladies Networking Social Hosted by Shella Sylla of SisterGolf & Candace Schepperle\, LPGA Professional & Health Coach Join like-minded professionals for an evening of networking & fun while learning how you can make golf a part of a healthy lifestyle and use it for business & career advancement! This is a "FREE" event.\n\n\n\nMust RSVP in advance to reserve a space Light Hors D'oeuvres will be served Door prizes & Giveaways.
X-ALT-DESC;FMTTYPE=text/html:Golf for Ladies Networking Social Hosted by Shella Sylla of SisterGolf &amp\; Candace Schepperle\, LPGA Professional &amp\; Health Coach Join like-minded professionals for an evening of networking &amp\; fun while learning how you can make golf a part of a healthy lifestyle and use it for business &amp\; career advancement! This is a &quot\;FREE&quot\; event.<br />\n<br />\nMust RSVP in advance to reserve a space Light Hors D&#39\;oeuvres will be served Door prizes &amp\; Giveaways.
LOCATION:Wine Loft - 2200 1st AV N\, Birmingham\, AL
UID:e.145.5101
SEQUENCE:3
DTSTAMP:20260423T213313Z
URL:https://business.shelbychamber.org/events/details/business-golf-for-ladies-networking-social-03-25-2014-5101
END:VEVENT

END:VCALENDAR
