BEGIN:VCALENDAR
VERSION:2.0
PRODID:-//ChamberMaster//Event Calendar 2.0//EN
METHOD:PUBLISH
X-PUBLISHED-TTL:P3D
REFRESH-INTERVAL:P3D
CALSCALE:GREGORIAN
BEGIN:VEVENT
DTSTART:20130620T210000Z
DTEND:20130621T000000Z
X-MICROSOFT-CDO-ALLDAYEVENT:FALSE
SUMMARY:Cahaba Dermatology Ribbon Cutting
DESCRIPTION:Cahaba Dermatology is holding its Grand Opening and Open House! Come celebrate with yummy food\, skin care products\, tours of their new office and so much more!
X-ALT-DESC;FMTTYPE=text/html:Cahaba Dermatology is holding its Grand Opening and Open House! Come celebrate with yummy food\, skin care products\, tours of their new office and so much more! 
LOCATION:2290 Valleydale Road Suite 204 Hoover\, AL 35244
UID:e.145.4627
SEQUENCE:3
DTSTAMP:20260424T120229Z
URL:https://business.shelbychamber.org/events/details/cahaba-dermatology-ribbon-cutting-06-20-2013-4627
END:VEVENT

END:VCALENDAR
