BEGIN:VCALENDAR
VERSION:2.0
PRODID:-//ChamberMaster//Event Calendar 2.0//EN
METHOD:PUBLISH
X-PUBLISHED-TTL:P3D
REFRESH-INTERVAL:P3D
CALSCALE:GREGORIAN
BEGIN:VEVENT
DTSTART:20151117T160000Z
DTEND:20151117T170000Z
X-MICROSOFT-CDO-ALLDAYEVENT:FALSE
SUMMARY:Cake Art By Cynthia Bertolone Ribbon Cutting
DESCRIPTION:Please join us for a ribbon cutting celebrating Cake Art By Cynthia Bertolone!
X-ALT-DESC;FMTTYPE=text/html:Please join us for a ribbon cutting celebrating Cake Art By Cynthia Bertolone!
LOCATION:Cake Art By Cynthia Bertolone 2154-A Pelham Parkway Pelham\, AL 35124
UID:e.145.7961
SEQUENCE:3
DTSTAMP:20260422T142036Z
URL:https://business.shelbychamber.org/events/details/cake-art-by-cynthia-bertolone-ribbon-cutting-11-17-2015-7961
END:VEVENT

END:VCALENDAR
