BEGIN:VCALENDAR
VERSION:2.0
PRODID:-//ChamberMaster//Event Calendar 2.0//EN
METHOD:PUBLISH
X-PUBLISHED-TTL:P3D
REFRESH-INTERVAL:P3D
CALSCALE:GREGORIAN
BEGIN:VEVENT
DTSTART:20140429T223000Z
DTEND:20140430T000000Z
X-MICROSOFT-CDO-ALLDAYEVENT:FALSE
SUMMARY:CANCELED: 1st Over the Mountain Chamber's SPRING FLING
DESCRIPTION:This event has been canceled due to severe weather predictions.  Thank you for understanding.
X-ALT-DESC;FMTTYPE=text/html:<br />\n<strong>This event has been canceled due to severe weather predictions.&nbsp\; Thank you for understanding.</strong>
LOCATION:Dixie Fish Company 101 Resource Center Parkway\, Birmingham
UID:e.145.5119
SEQUENCE:3
DTSTAMP:20260423T183931Z
URL:https://business.shelbychamber.org/events/details/canceled-1st-over-the-mountain-chamber-s-spring-fling-04-29-2014-5119
END:VEVENT

END:VCALENDAR
