BEGIN:VCALENDAR
VERSION:2.0
PRODID:-//ChamberMaster//Event Calendar 2.0//EN
METHOD:PUBLISH
X-PUBLISHED-TTL:P3D
REFRESH-INTERVAL:P3D
CALSCALE:GREGORIAN
BEGIN:VEVENT
DTSTART:20140503T000000Z
DTEND:20140503T020000Z
X-MICROSOFT-CDO-ALLDAYEVENT:FALSE
SUMMARY:Carolyn Haines-Sarah Booth Delaney Mystery Series
DESCRIPTION:Prolific American mystery author specializing in mysteries set in the Mississippi Delta. Tasting party featuring recipes from Haines' cookbook.
X-ALT-DESC;FMTTYPE=text/html:Prolific American mystery author specializing in mysteries set in the Mississippi Delta. Tasting party featuring recipes from Haines&#39\; cookbook. 
LOCATION:Shelby County Arts Council
UID:e.145.4923
SEQUENCE:3
DTSTAMP:20260423T184205Z
URL:https://business.shelbychamber.org/events/details/carolyn-haines-sarah-booth-delaney-mystery-series-05-02-2014-4923
END:VEVENT

END:VCALENDAR
