BEGIN:VCALENDAR
VERSION:2.0
PRODID:-//ChamberMaster//Event Calendar 2.0//EN
METHOD:PUBLISH
X-PUBLISHED-TTL:P3D
REFRESH-INTERVAL:P3D
CALSCALE:GREGORIAN
BEGIN:VEVENT
DTSTART:20130401T143000Z
DTEND:20130401T160000Z
X-MICROSOFT-CDO-ALLDAYEVENT:FALSE
SUMMARY:Carpet Outlet of Shelby County 30th Anniversary
DESCRIPTION:Carpet Outlet is celebrating its 30th Anniversary!
X-ALT-DESC;FMTTYPE=text/html:Carpet Outlet is celebrating its 30th Anniversary! 
LOCATION:3447 Pelham Parkway Pelham\, AL 35124 *Located beside Zaxby's
UID:e.145.4555
SEQUENCE:3
DTSTAMP:20260424T135007Z
URL:https://business.shelbychamber.org/events/details/carpet-outlet-of-shelby-county-30th-anniversary-04-01-2013-4555
END:VEVENT

END:VCALENDAR
