BEGIN:VCALENDAR
VERSION:2.0
PRODID:-//ChamberMaster//Event Calendar 2.0//EN
METHOD:PUBLISH
X-PUBLISHED-TTL:P3D
REFRESH-INTERVAL:P3D
CALSCALE:GREGORIAN
BEGIN:VEVENT
DTSTART:20140729T233000Z
DTEND:20140730T003000Z
X-MICROSOFT-CDO-ALLDAYEVENT:FALSE
SUMMARY:CEFA Free Career Training Opportunities
DESCRIPTION:CEFA Free Career Training Opportunities: Financial Education for Working Families Not sure about college? Investigate a different career path. Learn a trade and build your future in commercial construction with free training opportunities in electrical\, plumbing\, masonry\, welding\, HVAC and other high demand trades from the Construction Education Foundation of Alabama. Work during the day\, train two nights a week. After 6 months\, assistance with job placement in an apprentice program. Qualified students can receive financial assistance. This program is part of Smart investing@your library . Call 620-6418 for more information.
X-ALT-DESC;FMTTYPE=text/html:CEFA Free Career Training Opportunities: Financial Education for Working Families Not sure about college? Investigate a different career path. Learn a trade and build your future in commercial construction with free training opportunities in electrical\, plumbing\, masonry\, welding\, HVAC and other high demand trades from the Construction Education Foundation of Alabama. Work during the day\, train two nights a week. After 6 months\, assistance with job placement in an apprentice program. Qualified students can receive financial assistance. This program is part of Smart investing@your library&reg\;. Call 620-6418 for more information.
LOCATION:Pelham Public Library
UID:e.145.5797
SEQUENCE:3
DTSTAMP:20260423T133541Z
URL:https://business.shelbychamber.org/events/details/cefa-free-career-training-opportunities-07-29-2014-5797
END:VEVENT

END:VCALENDAR
