BEGIN:VCALENDAR
VERSION:2.0
PRODID:-//ChamberMaster//Event Calendar 2.0//EN
METHOD:PUBLISH
X-PUBLISHED-TTL:P3D
REFRESH-INTERVAL:P3D
CALSCALE:GREGORIAN
BEGIN:VEVENT
DTSTART:20121025T223000Z
DTEND:20121026T030000Z
X-MICROSOFT-CDO-ALLDAYEVENT:FALSE
SUMMARY:Celebrate Howl'oween with Country Rock Musician Ray Johnston and the GBHS
DESCRIPTION:0\n  false\n  \n  \n  18 pt\n  18 pt\n  0\n  0\n  \n  false\n  false\n  false\n  \n   \n   \n   \n   \n  \n \n\n \n \n\n\n /* Style Definitions */\ntable.MsoNormalTable\n	{mso-style-name:"Table Normal"\;\n	mso-tstyle-rowband-size:0\;\n	mso-tstyle-colband-size:0\;\n	mso-style-noshow:yes\;\n	mso-style-parent:""\;\n	mso-padding-alt:0in 5.4pt 0in 5.4pt\;\n	mso-para-margin:0in\;\n	mso-para-margin-bottom:.0001pt\;\n	mso-pagination:widow-orphan\;\n	font-size:12.0pt\;\n	font-family:"Times New Roman"\;\n	mso-ascii-font-family:Cambria\;\n	mso-ascii-theme-font:minor-latin\;\n	mso-fareast-font-family:"Times New Roman"\;\n	mso-fareast-theme-font:minor-fareast\;\n	mso-hansi-font-family:Cambria\;\n	mso-hansi-theme-font:minor-latin\;}\n\n\n\n	The Greater Birmingham Humane Society invites you to bring your furry four-legged friends and come celebrate "Howl'oween with Alabama native and Country Rock Musician Ray Johnston on Thursday\, October 25 from 5:30-10pm at Avondale Brewing Company.\n\n	The event is open to the public for a $12 donation in advance (purchase tickets online at www.gbhs.org) or $15 donation at the door.  Admission includes entrance to the event\, a free Avondale beer of your choice\, music and entertainment.  A full selection of Avondale's locally-brewed craft beer will be available for purchase\, and Shingdigs Food Truck will be on hand dishing up their delicious menu\, with a portion of the proceeds from both beer and food sales donated to the GBHSA.\n\n	The event is dog-friendly on the patio and in Avondale's large back yard! There will be a costume contest with prizes for people and pets! So put on your most outrageous Halloween costumes and come join the fun! Bring along your best canine friend for a howlin' great time! \n\n	 \n\n	(Please note: All dogs must be on a leash on the patio and in the back yard. In case of rain\, the event will be moved inside\, where dogs are not allowed.)
X-ALT-DESC;FMTTYPE=text/html:<!--[if gte mso 9]><xml>\n <o:OfficeDocumentSettings>\n  <o:AllowPNG/>\n </o:OfficeDocumentSettings>\n</xml><![endif]--><!--[if gte mso 9]><xml>\n <w:WordDocument>\n  <w:Zoom>0</w:Zoom>\n  <w:TrackMoves>false</w:TrackMoves>\n  <w:TrackFormatting/>\n  <w:PunctuationKerning/>\n  <w:DrawingGridHorizontalSpacing>18 pt</w:DrawingGridHorizontalSpacing>\n  <w:DrawingGridVerticalSpacing>18 pt</w:DrawingGridVerticalSpacing>\n  <w:DisplayHorizontalDrawingGridEvery>0</w:DisplayHorizontalDrawingGridEvery>\n  <w:DisplayVerticalDrawingGridEvery>0</w:DisplayVerticalDrawingGridEvery>\n  <w:ValidateAgainstSchemas/>\n  <w:SaveIfXMLInvalid>false</w:SaveIfXMLInvalid>\n  <w:IgnoreMixedContent>false</w:IgnoreMixedContent>\n  <w:AlwaysShowPlaceholderText>false</w:AlwaysShowPlaceholderText>\n  <w:Compatibility>\n   <w:BreakWrappedTables/>\n   <w:DontGrowAutofit/>\n   <w:DontAutofitConstrainedTables/>\n   <w:DontVertAlignInTxbx/>\n  </w:Compatibility>\n </w:WordDocument>\n</xml><![endif]--><!--[if gte mso 9]><xml>\n <w:LatentStyles DefLockedState="false" LatentStyleCount="276">\n </w:LatentStyles>\n</xml><![endif]--><!--[if gte mso 10]>\n<style>\n /* Style Definitions */\ntable.MsoNormalTable\n	{mso-style-name:"Table Normal"\;\n	mso-tstyle-rowband-size:0\;\n	mso-tstyle-colband-size:0\;\n	mso-style-noshow:yes\;\n	mso-style-parent:""\;\n	mso-padding-alt:0in 5.4pt 0in 5.4pt\;\n	mso-para-margin:0in\;\n	mso-para-margin-bottom:.0001pt\;\n	mso-pagination:widow-orphan\;\n	font-size:12.0pt\;\n	font-family:"Times New Roman"\;\n	mso-ascii-font-family:Cambria\;\n	mso-ascii-theme-font:minor-latin\;\n	mso-fareast-font-family:"Times New Roman"\;\n	mso-fareast-theme-font:minor-fareast\;\n	mso-hansi-font-family:Cambria\;\n	mso-hansi-theme-font:minor-latin\;}\n</style>\n<![endif]--><!--StartFragment-->\n<p class="MsoNormal" style="mso-pagination:none\;mso-layout-grid-align:none\;\ntext-autospace:none">\n	<span style="font-size:16.0pt\;font-family:Arial\;\nmso-bidi-font-family:Arial\;color:#1A1A1A">The Greater Birmingham Humane Society invites you to bring your furry four-legged friends and come celebrate &ldquo\;Howl&rsquo\;oween with Alabama native and Country Rock Musician Ray Johnston on Thursday\, October 25 from 5:30-10pm at Avondale Brewing Company.<o:p></o:p></span></p>\n<p class="MsoNormal" style="mso-pagination:none\;mso-layout-grid-align:none\;\ntext-autospace:none">\n	<span style="font-size:16.0pt\;font-family:Arial\;\nmso-bidi-font-family:Arial\;color:#1A1A1A">The event is open to the public for a $12 donation in advance (purchase tickets online at&nbsp\;</span><a href="http://www.gbhs.org/"><span style="font-size:16.0pt\;font-family:Arial\;\nmso-bidi-font-family:Arial\;color:#123CC0">www.gbhs.org</span></a><span style="font-size:16.0pt\;font-family:Arial\;mso-bidi-font-family:Arial\;\ncolor:#1A1A1A">) or $15 donation at the door. &nbsp\;Admission includes entrance to the event\, a free Avondale beer of your choice\, music and entertainment. &nbsp\;A full selection of Avondale&#39\;s locally-brewed craft beer will be available for purchase\, and Shingdigs Food Truck will be on hand dishing up their delicious menu\, with a portion of the proceeds from both beer and food sales donated to the GBHSA.</span></p>\n<p class="MsoNormal" style="mso-pagination:none\;mso-layout-grid-align:none\;\ntext-autospace:none">\n	<span class="Apple-style-span" style="color: rgb(26\, 26\, 26)\; font-family: Arial\; font-size: 21px\; ">The event is dog-friendly on the patio and in Avondale&rsquo\;s large back yard! There will be a costume contest with prizes for people and pets! So put on your most outrageous Halloween costumes and come join the fun! Bring along your best canine friend for a howlin&#39\; great time!&nbsp\;</span></p>\n<p class="MsoNormal" style="mso-pagination:none\;mso-layout-grid-align:none\;\ntext-autospace:none">\n	<span style="font-size:16.0pt\;font-family:Arial\;\nmso-bidi-font-family:Arial\;color:#1A1A1A"><o:p>&nbsp\;</o:p></span></p>\n<p class="MsoNormal" style="mso-pagination:none\;mso-layout-grid-align:none\;\ntext-autospace:none">\n	<span style="font-size:16.0pt\;font-family:Arial\;\nmso-bidi-font-family:Arial\;color:#1A1A1A">(Please note: All dogs must be on a leash on the patio and in the back yard. In case of rain\, the event will be moved inside\, where dogs are not allowed.)</span><span style="font-size:13.0pt\;\nfont-family:Arial\;mso-bidi-font-family:Arial\;color:#1A1A1A"><o:p></o:p></span></p>\n<!--EndFragment-->
LOCATION:Avondale Brewing Company
UID:e.145.4407
SEQUENCE:3
DTSTAMP:20260424T233748Z
URL:https://business.shelbychamber.org/events/details/celebrate-howl-oween-with-country-rock-musician-ray-johnston-and-the-gbhs-10-25-2012-4407
END:VEVENT

END:VCALENDAR
