BEGIN:VCALENDAR
VERSION:2.0
PRODID:-//ChamberMaster//Event Calendar 2.0//EN
METHOD:PUBLISH
X-PUBLISHED-TTL:P3D
REFRESH-INTERVAL:P3D
CALSCALE:GREGORIAN
BEGIN:VEVENT
DTSTART:20150306T000000Z
DTEND:20150328T010000Z
X-MICROSOFT-CDO-ALLDAYEVENT:FALSE
SUMMARY:Cescilia Llorente Solo Exhibit Opening Shelby County Arts Council
DESCRIPTION:Cescilia Llorente Fowler\, the winner of the 2014 SCAC Juried Art Exhibit\, will open her solo exhibit on March 6 from 6:00-8:00pm. \n\nCescilia was born in Mexico City.  The artist's mother taught her at an early age- giving her support and motivation with of her projects. Her career began as an artist and painter age at the age of 12\, traning with Ma. de Lourdes Valdes. She took many painting classes using different techniques and materials.  Cescilia  designed and painted scene for stage plays and children's theater in 1991 and 1992.  She began giving painting classes for children\, adolescents in 1976\, in 1993 began giving classes to adults.  Cescilia has created more than 800 different works with varios techniques and materials. Her art is owned and displayed in many countries- Argentina\, Colombia\, England\, Germany\, Poland\, New Zeland\, Spain\, Mexico and The United States in Alabama\, Florida\, Georgia\, Illinois\, Indiana\, North Carolina and Texas.\n\nOther Recent awards include the People Choice Award (2013)\, Watercolor Society of Alabama (WSA) Members' Showcase and Merit Award (2014) for the Watercolor Society of Alabama (WSA) Members' Showcase.\n\nThe Gallery Exhibit will be from March 6 - March 27\, 2015.  Gallery Hours are 10am - 5pm\, Monday - Thursday (104 Mildred Street\, Columbiana\, AL). For questions about the exhibit contact the Sheby County Arts Councial at  205 669 0044.
X-ALT-DESC;FMTTYPE=text/html:<p style="margin: 0px 0px 12px\; color: rgb(0\, 0\, 0)\; font-family: Arial\, Helvetica\, sans-serif\; font-size: 12px\; line-height: 18px\;"><span style="font-size:small"><span style="font-family:arial">Cescilia Llorente Fowler\, the winner of the 2014 SCAC Juried Art Exhibit\, will open her solo exhibit on March 6 from 6:00-8:00pm.&nbsp\;</span></span></p>\n\n<p style="margin: 0px 0px 12px\; color: rgb(0\, 0\, 0)\; font-family: Arial\, Helvetica\, sans-serif\; font-size: 12px\; line-height: 18px\;"><span style="font-size:small"><span style="font-family:arial">Cescilia was born in Mexico City.&nbsp\; The artist&#39\;s mother taught her at an early age- giving her support and motivation with of her projects. Her career began as an artist and painter age at the age of 12\, traning with Ma. de Lourdes Valdes. She took many painting classes using different techniques and materials.&nbsp\; Cescilia&nbsp\; designed and painted scene for stage plays and children&#39\;s theater in 1991 and 1992.&nbsp\; She began giving painting classes for children\, adolescents in 1976\, in 1993 began giving classes to adults.&nbsp\; Cescilia has created more than 800 different works with varios techniques and materials. Her art is owned and displayed in many countries- Argentina\, Colombia\, England\, Germany\, Poland\, New Zeland\, Spain\, Mexico and The United States in Alabama\, Florida\, Georgia\, Illinois\, Indiana\, North Carolina and Texas.</span></span></p>\n\n<p style="margin: 0px 0px 12px\; color: rgb(0\, 0\, 0)\; font-family: Arial\, Helvetica\, sans-serif\; font-size: 12px\; line-height: 18px\;"><span style="font-size:small"><span style="font-family:arial">Other Recent awards include the People Choice Award (2013)\, Watercolor Society of Alabama (WSA) Members&rsquo\; Showcase and Merit Award (2014) for the Watercolor Society of Alabama (WSA) Members&rsquo\; Showcase.</span></span></p>\n\n<p style="margin: 0px 0px 12px\; color: rgb(0\, 0\, 0)\; font-family: Arial\, Helvetica\, sans-serif\; font-size: 12px\; line-height: 18px\;"><span style="font-size:small"><span style="font-family:arial">The Gallery Exhibit will be from March 6 - March 27\, 2015.&nbsp\; Gallery Hours are 10am - 5pm\, Monday - Thursday (104 Mildred Street\, Columbiana\, AL). For questions about the exhibit contact the Sheby County Arts Councial at&nbsp\; 205 669 0044.</span></span></p>\n
LOCATION:104 Mildred Street\, Columbiana\, AL 35051
UID:e.145.7333
SEQUENCE:3
DTSTAMP:20260423T022322Z
URL:https://business.shelbychamber.org/events/details/cescilia-llorente-solo-exhibit-opening-shelby-county-arts-council-03-05-2015-7333
END:VEVENT

END:VCALENDAR
