BEGIN:VCALENDAR
VERSION:2.0
PRODID:-//ChamberMaster//Event Calendar 2.0//EN
METHOD:PUBLISH
X-PUBLISHED-TTL:P3D
REFRESH-INTERVAL:P3D
CALSCALE:GREGORIAN
BEGIN:VEVENT
DTSTART:20161209T140000Z
DTEND:20161209T180000Z
X-MICROSOFT-CDO-ALLDAYEVENT:FALSE
SUMMARY:Charger Challenge Clay Shoot
DESCRIPTION:Cornerstone Christian School is hosting a Clay Shoot.
X-ALT-DESC;FMTTYPE=text/html:Cornerstone Christian School is hosting a Clay Shoot.
LOCATION:Selwood Farms 706 Selwood Rd Alpine\, AL 35014
UID:e.145.9811
SEQUENCE:3
DTSTAMP:20260421T131911Z
URL:https://business.shelbychamber.org/events/details/charger-challenge-clay-shoot-9811
END:VEVENT

END:VCALENDAR
